BEGIN:VCALENDAR
VERSION:2.0
PRODID:-//ChamberMaster//Event Calendar 2.0//EN
METHOD:PUBLISH
X-PUBLISHED-TTL:P3D
REFRESH-INTERVAL:P3D
CALSCALE:GREGORIAN
BEGIN:VEVENT
DTSTART:20130103T230000Z
DTEND:20130104T020000Z
X-MICROSOFT-CDO-ALLDAYEVENT:FALSE
SUMMARY:a Fiddle & a Pig: BBQ & Bluegrass
DESCRIPTION:At the Colleton Museum & Farmers Market.  Tickets $10 each and available at the Colleton Museum & Farmers Market.  Live Bluegrass music and cash bar.
X-ALT-DESC;FMTTYPE=text/html:<span style="font-size: 12px">At the Colleton Museum &amp\; Farmers Market.&nbsp\; Tickets $10 each&nbsp\;and available at the Colleton Museum &amp\; Farmers Market.&nbsp\; Live Bluegrass music and cash bar</span>.&nbsp\;
LOCATION:Colleton Museum & Farmers Market 506 East Washington Street Walterboro\, SC (843) 549-2303
UID:e.528.406
SEQUENCE:3
DTSTAMP:20260420T204227Z
URL:http://business.colletonchamber.org/events/details/a-fiddle-a-pig-bbq-bluegrass-01-03-2013-406
END:VEVENT

END:VCALENDAR
