BEGIN:VCALENDAR
VERSION:2.0
PRODID:-//ChamberMaster//Event Calendar 2.0//EN
METHOD:PUBLISH
X-PUBLISHED-TTL:P3D
REFRESH-INTERVAL:P3D
CALSCALE:GREGORIAN
BEGIN:VEVENT
DTSTART:20130420T213000Z
DTEND:20130420T233000Z
X-MICROSOFT-CDO-ALLDAYEVENT:FALSE
SUMMARY:Around the World Wine Tasting!
DESCRIPTION:Around the World Wine Tasting!\n\nCome experience the fine wines of the world at Colleton Prep!
X-ALT-DESC;FMTTYPE=text/html:Around the World Wine Tasting!<br />\nCome experience the fine wines of the world at Colleton Prep!
LOCATION:Colleton Preparatory Academy\, 165 Academy Road\, Walterboro\, SC 29488 In the gymnasium.
UID:e.528.472
SEQUENCE:3
DTSTAMP:20260419T194804Z
URL:http://business.colletonchamber.org/events/details/around-the-world-wine-tasting-04-20-2013-472
END:VEVENT

END:VCALENDAR
