BEGIN:VCALENDAR
VERSION:2.0
PRODID:-//ChamberMaster//Event Calendar 2.0//EN
METHOD:PUBLISH
X-PUBLISHED-TTL:P3D
REFRESH-INTERVAL:P3D
CALSCALE:GREGORIAN
BEGIN:VEVENT
DTSTART:20130117T223000Z
DTEND:20130117T223000Z
X-MICROSOFT-CDO-ALLDAYEVENT:FALSE
SUMMARY:Business After Hours
DESCRIPTION:Sponsored by:  Blue Cross Chamber Plan\, The Keith Agency\, Harry's Clearvision\, Southern Carolina Regional Alliance\, Louie's Liquor and Fine Wines\, Ackerman Landscape and Irrigation\, Walterboro Rental and Equipment\, Colleton Museum and Farmers Market and the Walterboro-Colleton Chamber of Commerce.  Hors d'oeuvres\, beer and wine will be served.
X-ALT-DESC;FMTTYPE=text/html:Sponsored by:&nbsp\; Blue Cross Chamber Plan\, The Keith Agency\, Harry&#39\;s Clearvision\, Southern Carolina Regional Alliance\, Louie&#39\;s Liquor and Fine Wines\, Ackerman Landscape and Irrigation\, Walterboro Rental and Equipment\, Colleton Museum and Farmers Market and the Walterboro-Colleton Chamber of Commerce.&nbsp\; Hors d&#39\;oeuvres\, beer and wine will be served.
LOCATION:Colleton Museum and Farmers Market\, 506 E. Washington Street\, Walterboro\, SC 29488
UID:e.528.424
SEQUENCE:3
DTSTAMP:20260420T215515Z
URL:http://business.colletonchamber.org/events/details/business-after-hours-01-17-2013-424
END:VEVENT

END:VCALENDAR
