BEGIN:VCALENDAR
VERSION:2.0
PRODID:-//ChamberMaster//Event Calendar 2.0//EN
METHOD:PUBLISH
X-PUBLISHED-TTL:P3D
REFRESH-INTERVAL:P3D
CALSCALE:GREGORIAN
BEGIN:VEVENT
DTSTART:20130321T213000Z
DTEND:20130321T233000Z
X-MICROSOFT-CDO-ALLDAYEVENT:FALSE
SUMMARY:Business after Hours
DESCRIPTION:Music\, door prizes\, hors d'oeuvres\, beer and wine\; catering by Jimmy Fitts.
X-ALT-DESC;FMTTYPE=text/html:Music\, door prizes\, hors d&#39\;oeuvres\, beer and wine\; catering by Jimmy Fitts.
LOCATION:Palmetto Rural Telephone Cooperative\, Inc 292 Robertson Boulevard Walterboro\, SC 29488
UID:e.528.478
SEQUENCE:3
DTSTAMP:20260420T064533Z
URL:http://business.colletonchamber.org/events/details/business-after-hours-03-21-2013-478
END:VEVENT

END:VCALENDAR
