BEGIN:VCALENDAR
VERSION:2.0
PRODID:-//ChamberMaster//Event Calendar 2.0//EN
METHOD:PUBLISH
X-PUBLISHED-TTL:P3D
REFRESH-INTERVAL:P3D
CALSCALE:GREGORIAN
BEGIN:VEVENT
DTSTART:20130418T213000Z
DTEND:20130418T233000Z
X-MICROSOFT-CDO-ALLDAYEVENT:FALSE
SUMMARY:Business after Hours
DESCRIPTION:Agape Hospice\; sponsor for the evening -\n\nMusic\, door prizes\, hors d'oeuvres\, beer and wine\;\n\ndon't forget your business card for the door prize drawings.\n\n\n\nAlso\, the Chamber will be selling tickets for $1.00 each for a Fifty - Fifty drawing.
X-ALT-DESC;FMTTYPE=text/html:<strong>Agape Hospice\; </strong>sponsor for&nbsp\;the evening -<br />\nMusic\,&nbsp\;door prizes\, hors d&#39\;oeuvres\, beer and wine\;<br />\ndon&#39\;t forget your <strong><u>business card</u> </strong>for the door prize drawings.<br />\n<br />\nAlso\, the Chamber will be selling tickets for $1.00 each for a Fifty - Fifty drawing.&nbsp\;&nbsp\;<br />\n
LOCATION:Colleton Museum & Farmers Market 506 East Washington Street Walterboro\, SC 29488
UID:e.528.479
SEQUENCE:3
DTSTAMP:20260420T091051Z
URL:http://business.colletonchamber.org/events/details/business-after-hours-04-18-2013-479
END:VEVENT

END:VCALENDAR
