BEGIN:VCALENDAR
VERSION:2.0
PRODID:-//ChamberMaster//Event Calendar 2.0//EN
METHOD:PUBLISH
X-PUBLISHED-TTL:P3D
REFRESH-INTERVAL:P3D
CALSCALE:GREGORIAN
BEGIN:VEVENT
DTSTART:20121213T223000Z
DTEND:20121214T003000Z
X-MICROSOFT-CDO-ALLDAYEVENT:FALSE
SUMMARY:Business after Hours
DESCRIPTION:Sponsored by: The Colleton Center\, The United Way\, Nova Church\, Colleton County Arts Council\, Kiln Workshop\, Golden Agers Senior Theatre\, Bachelor Hill Studio\, Photography by Becky Morehead\, Cook Productions\, Roger Burris Studio\, Dance Studio\, Susan Grampus and the Walterboro-Colleton Chamber of Commerce.  Hors d' oeuvres\, beer and wine will be served.
X-ALT-DESC;FMTTYPE=text/html:Sponsored by: The Colleton Center\, The United Way\, Nova Church\, Colleton County Arts Council\, Kiln Workshop\, Golden Agers Senior Theatre\, Bachelor Hill Studio\, Photography by Becky Morehead\, Cook Productions\, Roger Burris Studio\, Dance Studio\, Susan Grampus and the Walterboro-Colleton Chamber of Commerce.&nbsp\; Hors d&#39\; oeuvres\, beer and wine will be served.
LOCATION:The Colleton Center 494 Hampton Street Walterboro\, SC 29488
UID:e.528.419
SEQUENCE:3
DTSTAMP:20260421T204937Z
URL:http://business.colletonchamber.org/events/details/business-after-hours-12-13-2012-419
END:VEVENT

END:VCALENDAR
