BEGIN:VCALENDAR
VERSION:2.0
PRODID:-//ChamberMaster//Event Calendar 2.0//EN
METHOD:PUBLISH
X-PUBLISHED-TTL:P3D
REFRESH-INTERVAL:P3D
CALSCALE:GREGORIAN
BEGIN:VEVENT
DTSTART:20130214T130000Z
DTEND:20130214T140000Z
X-MICROSOFT-CDO-ALLDAYEVENT:FALSE
SUMMARY:Business and Breakfast
DESCRIPTION:Danny Black with the South Carolina Regional Alliance will be our speaker.
X-ALT-DESC;FMTTYPE=text/html:Danny Black with the South Carolina Regional Alliance will be our speaker.
LOCATION:
UID:e.528.442
SEQUENCE:3
DTSTAMP:20260422T061929Z
URL:http://business.colletonchamber.org/events/details/business-and-breakfast-02-14-2013-442
END:VEVENT

END:VCALENDAR
