BEGIN:VCALENDAR
VERSION:2.0
PRODID:-//ChamberMaster//Event Calendar 2.0//EN
METHOD:PUBLISH
X-PUBLISHED-TTL:P3D
REFRESH-INTERVAL:P3D
CALSCALE:GREGORIAN
BEGIN:VEVENT
DTSTART;VALUE=DATE:20130302
DTEND;VALUE=DATE:20130303
TRANSP:TRANSPARENT
X-MICROSOFT-CDO-ALLDAYEVENT:TRUE
SUMMARY:Colleton County Animal Shelter
DESCRIPTION:Paws at the Plantation 2 - Paul & Dalton Plantation
X-ALT-DESC;FMTTYPE=text/html:Paws at the Plantation 2 - Paul &amp\; Dalton Plantation
LOCATION:
UID:e.528.440
SEQUENCE:3
DTSTAMP:20260421T061509Z
URL:http://business.colletonchamber.org/events/details/colleton-county-animal-shelter-03-02-2013-440
END:VEVENT

END:VCALENDAR
