BEGIN:VCALENDAR
VERSION:2.0
PRODID:-//ChamberMaster//Event Calendar 2.0//EN
METHOD:PUBLISH
X-PUBLISHED-TTL:P3D
REFRESH-INTERVAL:P3D
CALSCALE:GREGORIAN
BEGIN:VEVENT
DTSTART;VALUE=DATE:20130509
DTEND;VALUE=DATE:20130510
TRANSP:TRANSPARENT
X-MICROSOFT-CDO-ALLDAYEVENT:TRUE
SUMMARY:Colleton County Historical Society
DESCRIPTION:Preservation Awards
X-ALT-DESC;FMTTYPE=text/html:Preservation Awards
LOCATION:
UID:e.528.439
SEQUENCE:3
DTSTAMP:20260421T102442Z
URL:http://business.colletonchamber.org/events/details/colleton-county-historical-society-05-09-2013-439
END:VEVENT

END:VCALENDAR
