BEGIN:VCALENDAR
VERSION:2.0
PRODID:-//ChamberMaster//Event Calendar 2.0//EN
METHOD:PUBLISH
X-PUBLISHED-TTL:P3D
REFRESH-INTERVAL:P3D
CALSCALE:GREGORIAN
BEGIN:VEVENT
DTSTART:20130404T130000Z
DTEND:20130404T160000Z
X-MICROSOFT-CDO-ALLDAYEVENT:FALSE
SUMMARY:Colleton County Needs Child Advocates!
DESCRIPTION:Your voice can make a powerful difference in a child's future! Our volunteers speak for abused children so they can find safe\, loving\, and stable homes. Whether a student\, retiree\, stay-at-home parent or business owner\, you can be the one constant in children's lives as they journey through the foster care system. All you need is a passion for children and a few hours a month to spend with children who desperately need a caring adult in their lives. Sign up today for our upcoming training class to learn how your interest in children's issues can positively impact a child's life. Call (843) 549-6580 or visit www.colleton.scgal.org for more information.
X-ALT-DESC;FMTTYPE=text/html:<span style="line-height: 115%\; font-family: 'verdana'\, 'sans-serif'\; color: black\; font-size: 7.5pt\; mso-fareast-font-family: calibri\; mso-fareast-theme-font: minor-latin\; mso-bidi-font-family: 'times new roman'\; mso-bidi-theme-font: minor-bidi\; mso-ansi-language: en-us\; mso-fareast-language: en-us\; mso-bidi-language: ar-sa">Your voice can make a powerful difference in a child&#39\;s future! Our volunteers speak for abused children so they can find safe\, loving\, and stable homes. Whether a student\, retiree\, stay-at-home parent or business owner\, you can be the one constant in children&#39\;s lives as they journey through the foster care system. All you need is a passion for children and a few hours a month to spend with children who desperately need a caring adult in their lives. Sign up today for our upcoming training class to learn how your interest in children&#39\;s issues can positively impact a child&#39\;s life. Call&nbsp\;(843) 549-6580&nbsp\;or visit </span><span style="line-height: 115%\; font-family: 'calibri'\, 'sans-serif'\; font-size: 11pt\; mso-fareast-font-family: calibri\; mso-fareast-theme-font: minor-latin\; mso-bidi-font-family: 'times new roman'\; mso-bidi-theme-font: minor-bidi\; mso-ansi-language: en-us\; mso-fareast-language: en-us\; mso-bidi-language: ar-sa\; mso-ascii-theme-font: minor-latin\; mso-hansi-theme-font: minor-latin"><span style="line-height: 115%\; font-family: 'calibri'\, 'sans-serif'\; font-size: 11pt\; mso-fareast-font-family: calibri\; mso-fareast-theme-font: minor-latin\; mso-bidi-font-family: 'times new roman'\; mso-bidi-theme-font: minor-bidi\; mso-ansi-language: en-us\; mso-fareast-language: en-us\; mso-bidi-language: ar-sa\; mso-ascii-theme-font: minor-latin\; mso-hansi-theme-font: minor-latin"><a href="http://www.cherokee.scgal.org/"><span style="line-height: 115%\; font-family: 'verdana'\, 'sans-serif'\; font-size: 7.5pt"><font color="#0000ff">www.colleton.scgal.org</font></span></a></span></span><span style="line-height: 115%\; font-family: 'verdana'\, 'sans-serif'\; color: black\; font-size: 7.5pt\; mso-fareast-font-family: calibri\; mso-fareast-theme-font: minor-latin\; mso-bidi-font-family: 'times new roman'\; mso-bidi-theme-font: minor-bidi\; mso-ansi-language: en-us\; mso-fareast-language: en-us\; mso-bidi-language: ar-sa"> for more information.</span>
LOCATION:Colleton County Guardian ad Litem Office\, 109 Benson Street\, Walterboro\, SC
UID:e.528.427
SEQUENCE:3
DTSTAMP:20260420T174614Z
URL:http://business.colletonchamber.org/events/details/colleton-county-needs-child-advocates-04-04-2013-427
END:VEVENT

END:VCALENDAR
