BEGIN:VCALENDAR
VERSION:2.0
PRODID:-//ChamberMaster//Event Calendar 2.0//EN
METHOD:PUBLISH
X-PUBLISHED-TTL:P3D
REFRESH-INTERVAL:P3D
CALSCALE:GREGORIAN
BEGIN:VEVENT
DTSTART;VALUE=DATE:20130501
DTEND;VALUE=DATE:20130502
TRANSP:TRANSPARENT
X-MICROSOFT-CDO-ALLDAYEVENT:TRUE
SUMMARY:Downtown Walterboro Criterium
DESCRIPTION:Downtown Walterboro Criterium
X-ALT-DESC;FMTTYPE=text/html:Downtown Walterboro Criterium
LOCATION:Downtown Walterboro (City Parking lot)
UID:e.528.434
SEQUENCE:3
DTSTAMP:20260420T034958Z
URL:http://business.colletonchamber.org/events/details/downtown-walterboro-criterium-05-01-2013-434
END:VEVENT

END:VCALENDAR
