BEGIN:VCALENDAR
VERSION:2.0
PRODID:-//ChamberMaster//Event Calendar 2.0//EN
METHOD:PUBLISH
X-PUBLISHED-TTL:P3D
REFRESH-INTERVAL:P3D
CALSCALE:GREGORIAN
BEGIN:VEVENT
DTSTART:20121103T130000Z
DTEND:20121103T160000Z
X-MICROSOFT-CDO-ALLDAYEVENT:FALSE
SUMMARY:Harvest Craft Fair
DESCRIPTION:Local crafters with fall crafts at the Farmers Market.  To set up a booth contact Marilyn Peters at 843-908-4088 or mpeters@colletoncounty.org
X-ALT-DESC;FMTTYPE=text/html:Local crafters with fall crafts at the Farmers Market.&nbsp\; To set up a booth contact Marilyn Peters at 843-908-4088 or <a href="mailto:mpeters@colletoncounty.org">mpeters@colletoncounty.org</a>
LOCATION:
UID:e.528.400
SEQUENCE:3
DTSTAMP:20260421T162829Z
URL:http://business.colletonchamber.org/events/details/harvest-craft-fair-11-03-2012-400
END:VEVENT

END:VCALENDAR
