BEGIN:VCALENDAR
VERSION:2.0
PRODID:-//ChamberMaster//Event Calendar 2.0//EN
METHOD:PUBLISH
X-PUBLISHED-TTL:P3D
REFRESH-INTERVAL:P3D
CALSCALE:GREGORIAN
BEGIN:VEVENT
DTSTART:20130419T160000Z
DTEND:20130419T170000Z
X-MICROSOFT-CDO-ALLDAYEVENT:FALSE
SUMMARY:Hotel Hammock Ribbon Cutting
DESCRIPTION:A Ribbon Cutting to celebrate the restoration and grand opening of the Hotel Hammock.  Light  refreshments will be served on the Hotel's front porch.  Also\, tickets will be sold for $.50 each for a chance to win a scale model replica of the Colleton County Court House\, value $300\; the drawing will take place during the Colleton County Rice Festival.
X-ALT-DESC;FMTTYPE=text/html:A Ribbon Cutting to celebrate the restoration&nbsp\;and&nbsp\;grand opening of the Hotel Hammock.&nbsp\; Light&nbsp\; refreshments will be served on&nbsp\;the Hotel&#39\;s front porch.&nbsp\; Also\, tickets will be sold for $.50 each for a chance to win a scale model replica of the Colleton County Court House\, value $300\; the drawing will take place during&nbsp\;the Colleton County Rice Festival.&nbsp\;&nbsp\; 
LOCATION:Hotel Hammock\, LLC 214 South Jefferies Boulevard Walterboro\, SC 29488
UID:e.528.485
SEQUENCE:3
DTSTAMP:20260422T023529Z
URL:http://business.colletonchamber.org/events/details/hotel-hammock-ribbon-cutting-04-19-2013-485
END:VEVENT

END:VCALENDAR
