BEGIN:VCALENDAR
VERSION:2.0
PRODID:-//ChamberMaster//Event Calendar 2.0//EN
METHOD:PUBLISH
X-PUBLISHED-TTL:P3D
REFRESH-INTERVAL:P3D
CALSCALE:GREGORIAN
BEGIN:VEVENT
DTSTART:20120811T160000Z
DTEND:20120811T190000Z
X-MICROSOFT-CDO-ALLDAYEVENT:FALSE
SUMMARY:Kidfest
DESCRIPTION:Kidfest will be kicked off with an in-store fashion show featuring clothing from the children's department and fun\, kid themed elements such as light refreshments\, music\, games and balloons.\n\n\n\nThis fall\, we are continuing our support of the American Heart Association's "My Heart. My Heart Life" by repeating heart healthy\, kid friendly activities and fun educational elements. This is an opportunity to share Belk's commitment to communities by empowering kids and parents to get healthier in a FUN way.\n\nContact us to find out how your child can be a model.
X-ALT-DESC;FMTTYPE=text/html:Kidfest will be kicked off with an in-store fashion show featuring clothing from the children&#39\;s department and fun\, kid themed elements such as light refreshments\, music\, games and balloons.<br />\n<br />\nThis fall\, we are continuing our support of the American Heart Association&#39\;s &quot\;My Heart. My Heart Life&quot\; by repeating heart healthy\, kid friendly activities and fun educational elements. This is an opportunity to share Belk&#39\;s commitment to communities by empowering kids and parents to get healthier in a FUN way.<br />\nContact us to find out how your child can be a model.
LOCATION:Belk 389 Bells Highway Walterboro\, SC 29488
UID:e.528.375
SEQUENCE:3
DTSTAMP:20260422T042505Z
URL:http://business.colletonchamber.org/events/details/kidfest-08-11-2012-375
END:VEVENT

END:VCALENDAR
