BEGIN:VCALENDAR
VERSION:2.0
PRODID:-//ChamberMaster//Event Calendar 2.0//EN
METHOD:PUBLISH
X-PUBLISHED-TTL:P3D
REFRESH-INTERVAL:P3D
CALSCALE:GREGORIAN
BEGIN:VEVENT
DTSTART:20121115T210000Z
DTEND:20121115T230000Z
X-MICROSOFT-CDO-ALLDAYEVENT:FALSE
SUMMARY:Kidney Smart
DESCRIPTION:Learn the choices available to anyone ealing with diabetes\, high blood pressur "sugar" and any form of heart disease.
X-ALT-DESC;FMTTYPE=text/html:Learn the choices available to anyone ealing with diabetes\, high blood pressur &quot\;sugar&quot\; and any form of heart disease.&nbsp\; 
LOCATION:DaVita Walterboro Dialysis 302 Ruby Street Walterboro\, SC
UID:e.528.417
SEQUENCE:3
DTSTAMP:20260421T151652Z
URL:http://business.colletonchamber.org/events/details/kidney-smart-11-15-2012-417
END:VEVENT

END:VCALENDAR
