BEGIN:VCALENDAR
VERSION:2.0
PRODID:-//ChamberMaster//Event Calendar 2.0//EN
METHOD:PUBLISH
X-PUBLISHED-TTL:P3D
REFRESH-INTERVAL:P3D
CALSCALE:GREGORIAN
BEGIN:VEVENT
DTSTART;VALUE=DATE:20120817
DTEND;VALUE=DATE:20120915
TRANSP:TRANSPARENT
X-MICROSOFT-CDO-ALLDAYEVENT:TRUE
SUMMARY:Leadership Colleton Application Available
DESCRIPTION:We are now taking applications for Leadership Colleton.    For information\, refer to the Chamber website under the Programs tab. \n\n\n\nIf you would like an application\, call 549-9595.  Someone will be happy to answer your questions and send you an application.  Qualifications for Leadership Colleton are listed on the website and in the application documents.
X-ALT-DESC;FMTTYPE=text/html:We are now taking applications for Leadership Colleton.&nbsp\;&nbsp\;&nbsp\; For information\, refer to the Chamber website under the Programs tab.&nbsp\;<br />\n<br />\nIf you would like an application\, call 549-9595.&nbsp\; Someone will be happy to answer your questions and send you an application.&nbsp\; Qualifications for Leadership Colleton are listed on the website and in the application documents.&nbsp\;&nbsp\;&nbsp\;&nbsp\;&nbsp\;
LOCATION:Locations for each Leadership Colleton session vary. The orientation and two-day retreat are in Walterboro. However\, some other sessions are out of town.
UID:e.528.377
SEQUENCE:3
DTSTAMP:20260422T060426Z
URL:http://business.colletonchamber.org/events/details/leadership-colleton-application-available-08-17-2012-377
END:VEVENT

END:VCALENDAR
