BEGIN:VCALENDAR
VERSION:2.0
PRODID:-//ChamberMaster//Event Calendar 2.0//EN
METHOD:PUBLISH
X-PUBLISHED-TTL:P3D
REFRESH-INTERVAL:P3D
CALSCALE:GREGORIAN
BEGIN:VEVENT
DTSTART;VALUE=DATE:20130411
DTEND;VALUE=DATE:20130412
TRANSP:TRANSPARENT
X-MICROSOFT-CDO-ALLDAYEVENT:TRUE
SUMMARY:Leadership Colleton Class
DESCRIPTION:
X-ALT-DESC;FMTTYPE=text/html:
LOCATION:
UID:e.528.449
SEQUENCE:3
DTSTAMP:20260419T163054Z
URL:http://business.colletonchamber.org/events/details/leadership-colleton-class-04-11-2013-449
END:VEVENT

END:VCALENDAR
