BEGIN:VCALENDAR
VERSION:2.0
PRODID:-//ChamberMaster//Event Calendar 2.0//EN
METHOD:PUBLISH
X-PUBLISHED-TTL:P3D
REFRESH-INTERVAL:P3D
CALSCALE:GREGORIAN
BEGIN:VEVENT
DTSTART;VALUE=DATE:20120914
DTEND;VALUE=DATE:20120915
TRANSP:TRANSPARENT
X-MICROSOFT-CDO-ALLDAYEVENT:TRUE
SUMMARY:Leadership Colleton Registration Deadline
DESCRIPTION:
X-ALT-DESC;FMTTYPE=text/html:
LOCATION:
UID:e.528.378
SEQUENCE:3
DTSTAMP:20260422T003321Z
URL:http://business.colletonchamber.org/events/details/leadership-colleton-registration-deadline-09-14-2012-378
END:VEVENT

END:VCALENDAR
