BEGIN:VCALENDAR
VERSION:2.0
PRODID:-//ChamberMaster//Event Calendar 2.0//EN
METHOD:PUBLISH
X-PUBLISHED-TTL:P3D
REFRESH-INTERVAL:P3D
CALSCALE:GREGORIAN
BEGIN:VEVENT
DTSTART;VALUE=DATE:20120926
DTEND;VALUE=DATE:20120928
TRANSP:TRANSPARENT
X-MICROSOFT-CDO-ALLDAYEVENT:TRUE
SUMMARY:Leadership Colleton Retreat
DESCRIPTION:
X-ALT-DESC;FMTTYPE=text/html:
LOCATION:
UID:e.528.384
SEQUENCE:3
DTSTAMP:20260422T003005Z
URL:http://business.colletonchamber.org/events/details/leadership-colleton-retreat-09-26-2012-384
END:VEVENT

END:VCALENDAR
