BEGIN:VCALENDAR
VERSION:2.0
PRODID:-//ChamberMaster//Event Calendar 2.0//EN
METHOD:PUBLISH
X-PUBLISHED-TTL:P3D
REFRESH-INTERVAL:P3D
CALSCALE:GREGORIAN
BEGIN:VEVENT
DTSTART:20130427T230000Z
DTEND:20130427T230000Z
X-MICROSOFT-CDO-ALLDAYEVENT:FALSE
SUMMARY:Moon River
DESCRIPTION:Moon River is a tribute to the music and life of Johnny Mercer\, presented by The Savannah Jazz All-Stars\, featuring Terry Herron\, Priscilla Albergottie-Williams and Penny Dawson.
X-ALT-DESC;FMTTYPE=text/html:Moon River is&nbsp\;a tribute to the music and life of Johnny Mercer\, presented by The Savannah Jazz All-Stars\, featuring Terry Herron\, Priscilla Albergottie-Williams and Penny Dawson.
LOCATION:The Colleton Center\, 494 Hampton Street\, Walterboro\, SC 29488
UID:e.528.486
SEQUENCE:3
DTSTAMP:20260419T163012Z
URL:http://business.colletonchamber.org/events/details/moon-river-04-27-2013-486
END:VEVENT

END:VCALENDAR
