BEGIN:VCALENDAR
VERSION:2.0
PRODID:-//ChamberMaster//Event Calendar 2.0//EN
METHOD:PUBLISH
X-PUBLISHED-TTL:P3D
REFRESH-INTERVAL:P3D
CALSCALE:GREGORIAN
BEGIN:VEVENT
DTSTART:20130417T220000Z
DTEND:20130418T000000Z
X-MICROSOFT-CDO-ALLDAYEVENT:FALSE
SUMMARY:Nature Photography
DESCRIPTION:Nature photography workshop / class\;\n\nInstructor: Chris Kirk
X-ALT-DESC;FMTTYPE=text/html:Nature photography workshop / class\;<br />\nInstructor:&nbsp\;Chris Kirk
LOCATION:Colleton Museum & Farmers Market 506 East Washington Street Walterboro\, SC 29488
UID:e.528.484
SEQUENCE:3
DTSTAMP:20260419T173431Z
URL:http://business.colletonchamber.org/events/details/nature-photography-04-17-2013-484
END:VEVENT

END:VCALENDAR
