BEGIN:VCALENDAR
VERSION:2.0
PRODID:-//ChamberMaster//Event Calendar 2.0//EN
METHOD:PUBLISH
X-PUBLISHED-TTL:P3D
REFRESH-INTERVAL:P3D
CALSCALE:GREGORIAN
BEGIN:VEVENT
DTSTART;VALUE=DATE:20130426
DTEND;VALUE=DATE:20130429
TRANSP:TRANSPARENT
X-MICROSOFT-CDO-ALLDAYEVENT:TRUE
SUMMARY:Rice Festival
DESCRIPTION:Please visit the Colleton County Rice Festival's website for schedule of events and details.\n\n\n\nhttp://www.thericefestival.org
X-ALT-DESC;FMTTYPE=text/html:Please visit the Colleton County Rice Festival&#39\;s website for schedule of events and details.<br />\n<br />\n<a href="http://www.thericefestival.org">http://www.thericefestival.org</a>
LOCATION:
UID:e.528.433
SEQUENCE:3
DTSTAMP:20260420T071507Z
URL:http://business.colletonchamber.org/events/details/rice-festival-04-26-2013-433
END:VEVENT

END:VCALENDAR
