BEGIN:VCALENDAR
VERSION:2.0
PRODID:-//ChamberMaster//Event Calendar 2.0//EN
METHOD:PUBLISH
X-PUBLISHED-TTL:P3D
REFRESH-INTERVAL:P3D
CALSCALE:GREGORIAN
BEGIN:VEVENT
DTSTART:20121004T220000Z
DTEND:20121005T000000Z
X-MICROSOFT-CDO-ALLDAYEVENT:FALSE
SUMMARY:Suds & Sausage
DESCRIPTION:SUDS & SAUSAGE\n\n	\n\n	From pale ales to stouts: Sample the finest brews from around the world & enjoy grilled bratwurst with the fixings!
X-ALT-DESC;FMTTYPE=text/html:<p style="text-align: center">\n	<span style="font-size: 20px"><span style="font-family: tahoma"><strong>SUDS &amp\; SAUSAGE</strong><br />\n	<br />\n	<span style="font-size: 16px">From pale ales to stouts:&nbsp\;Sample the finest brews from around the world &amp\; enjoy grilled bratwurst with the fixings!</span></span></span><br />\n	<br />\n	&nbsp\;</p>\n
LOCATION:SC Artisans Center 318 Wichman Street
UID:e.528.200
SEQUENCE:3
DTSTAMP:20260422T144759Z
URL:http://business.colletonchamber.org/events/details/suds-sausage-10-04-2012-200
END:VEVENT

END:VCALENDAR
