BEGIN:VCALENDAR
VERSION:2.0
PRODID:-//ChamberMaster//Event Calendar 2.0//EN
METHOD:PUBLISH
X-PUBLISHED-TTL:P3D
REFRESH-INTERVAL:P3D
CALSCALE:GREGORIAN
BEGIN:VEVENT
DTSTART:20141016T140000Z
DTEND:20141016T160000Z
X-MICROSOFT-CDO-ALLDAYEVENT:FALSE
SUMMARY:Toddler Time
DESCRIPTION:Ages 18 months to 4 years.\n\nNature\, stories & song with Ms. Eartha\n\nColleton Museum & Farmers Market
X-ALT-DESC;FMTTYPE=text/html:Ages 18 months to 4 years.<br />\nNature\, stories &amp\; song with Ms. Eartha<br />\nColleton Museum &amp\; Farmers Market
LOCATION:
UID:e.528.640
SEQUENCE:3
DTSTAMP:20260420T081547Z
URL:http://business.colletonchamber.org/events/details/toddler-time-10-16-2014-640
END:VEVENT

END:VCALENDAR
