BEGIN:VCALENDAR
VERSION:2.0
PRODID:-//ChamberMaster//Event Calendar 2.0//EN
METHOD:PUBLISH
X-PUBLISHED-TTL:P3D
REFRESH-INTERVAL:P3D
CALSCALE:GREGORIAN
BEGIN:VEVENT
DTSTART:20130416T220000Z
DTEND:20130416T230000Z
X-MICROSOFT-CDO-ALLDAYEVENT:FALSE
SUMMARY:USCB's Saturday Business Degree Program
DESCRIPTION:The Saturday Business Degree Plan is ideal for the career-minded individual who wants to earn a business degree without taking time off from work during the week.  It is designed for working adults who:  (1) have an associate's degree or have completed partial work toward a four-year degree\; (2) have a degree in another field or are seeking a degree in business\; (3) can expedite their career advancement with a degree in business and / or  (4) want a degree from a recognized university on an accelerated timetable.
X-ALT-DESC;FMTTYPE=text/html:The Saturday Business Degree Plan is ideal for the career-minded individual who wants to earn a business degree without taking time off from work during the week.&nbsp\; It is designed for working adults who:&nbsp\; (1) have an associate&#39\;s degree or have completed partial work toward a four-year degree\; (2) have a degree in another field or are seeking a degree in business\; (3) can expedite their career advancement with a degree in business and / or&nbsp\; (4) want a degree from a recognized university on an accelerated timetable.
LOCATION:Hilton-Head Gateway Campus: Hwy. 278\, Bluffton\, S.C. 29909 Science and Tech Building\, Room 123
UID:e.528.477
SEQUENCE:3
DTSTAMP:20260419T213548Z
URL:http://business.colletonchamber.org/events/details/uscb-s-saturday-business-degree-program-04-16-2013-477
END:VEVENT

END:VCALENDAR
