BEGIN:VCALENDAR
VERSION:2.0
PRODID:-//ChamberMaster//Event Calendar 2.0//EN
METHOD:PUBLISH
X-PUBLISHED-TTL:P3D
REFRESH-INTERVAL:P3D
CALSCALE:GREGORIAN
BEGIN:VEVENT
DTSTART:20121110T160000Z
DTEND:20121110T170000Z
X-MICROSOFT-CDO-ALLDAYEVENT:FALSE
SUMMARY:Veteran's Day Parade
DESCRIPTION:Grand Marshalls:Veterans of the Korean War Era
X-ALT-DESC;FMTTYPE=text/html:Grand Marshalls:Veterans of the Korean War Era&nbsp\; 
LOCATION:Parade down Jefferies Boulevard\, Walterboro\, SC
UID:e.528.416
SEQUENCE:3
DTSTAMP:20260421T162609Z
URL:http://business.colletonchamber.org/events/details/veteran-s-day-parade-11-10-2012-416
END:VEVENT

END:VCALENDAR
