BEGIN:VCALENDAR
VERSION:2.0
PRODID:-//ChamberMaster//Event Calendar 2.0//EN
METHOD:PUBLISH
X-PUBLISHED-TTL:P3D
REFRESH-INTERVAL:P3D
CALSCALE:GREGORIAN
BEGIN:VEVENT
DTSTART:20130413T180000Z
DTEND:20130413T220000Z
X-MICROSOFT-CDO-ALLDAYEVENT:FALSE
SUMMARY:Walterboro Has Talent
DESCRIPTION:Walterboro Has Talent is a Community-wide variety show with all proceeds to benefit Veterans in Walterboro\, SC that require special needs.  This coincides with a Veterans group regularly supported by the Walterboro Elks Lodge
X-ALT-DESC;FMTTYPE=text/html:Walterboro Has Talent is a Community-wide variety show with all proceeds to benefit Veterans in Walterboro\, SC that require special needs.&nbsp\; This coincides with a Veterans group regularly supported by the Walterboro Elks Lodge
LOCATION:Colleton County High School PERFORMING ARTS CENTER
UID:e.528.481
SEQUENCE:3
DTSTAMP:20260419T194452Z
URL:http://business.colletonchamber.org/events/details/walterboro-has-talent-04-13-2013-481
END:VEVENT

END:VCALENDAR
