BEGIN:VCALENDAR
VERSION:2.0
PRODID:-//ChamberMaster//Event Calendar 2.0//EN
METHOD:PUBLISH
X-PUBLISHED-TTL:P3D
REFRESH-INTERVAL:P3D
CALSCALE:GREGORIAN
BEGIN:VEVENT
DTSTART:20120421T140000Z
DTEND:20120421T190000Z
X-MICROSOFT-CDO-ALLDAYEVENT:FALSE
SUMMARY:Wings-n-Wheels
DESCRIPTION:The Lowcountry Regional Airport and EAA Chapter 477 present the Fourth Annual Wings-n-Wheels\, showcasing over 100 aircraft and show cars\, displaying some of the most amazing craftsmanship\, designs and innovation the Lowcountry has to offer in one event.  Bring the family.  Delicious food\, beautiful cars and planes.  Talk to owners and pilots.
X-ALT-DESC;FMTTYPE=text/html:The Lowcountry Regional Airport and EAA Chapter 477 present the Fourth Annual Wings-n-Wheels\, showcasing over 100 aircraft and show cars\, displaying some of the most amazing craftsmanship\, designs and innovation the Lowcountry has to offer in one event.&nbsp\; Bring the family.&nbsp\; Delicious food\, beautiful cars and planes.&nbsp\; Talk to owners and pilots.
LOCATION:Lowcountry Regional Airport - Walterboro\, SC
UID:e.528.370
SEQUENCE:3
DTSTAMP:20260423T001911Z
URL:http://business.colletonchamber.org/events/details/wings-n-wheels-04-21-2012-370
END:VEVENT

END:VCALENDAR
