BEGIN:VCALENDAR
VERSION:2.0
PRODID:-//ChamberMaster//Event Calendar 2.0//EN
METHOD:PUBLISH
X-PUBLISHED-TTL:P3D
REFRESH-INTERVAL:P3D
CALSCALE:GREGORIAN
BEGIN:VEVENT
DTSTART;VALUE=DATE:20120107
DTEND;VALUE=DATE:20120108
TRANSP:TRANSPARENT
X-MICROSOFT-CDO-ALLDAYEVENT:TRUE
SUMMARY:12th Night Celebration
DESCRIPTION:
X-ALT-DESC;FMTTYPE=text/html:
LOCATION:Bedon-Lucas House
UID:e.528.325
SEQUENCE:3
DTSTAMP:20260423T070740Z
URL:https://business.colletonchamber.org/events/details/12th-night-celebration-01-07-2012-325
END:VEVENT

END:VCALENDAR
