BEGIN:VCALENDAR
VERSION:2.0
PRODID:-//ChamberMaster//Event Calendar 2.0//EN
METHOD:PUBLISH
X-PUBLISHED-TTL:P3D
REFRESH-INTERVAL:P3D
CALSCALE:GREGORIAN
BEGIN:VEVENT
DTSTART:20100806T230000Z
DTEND:20100807T030000Z
X-MICROSOFT-CDO-ALLDAYEVENT:FALSE
SUMMARY:1st Annual Lowcountry Sertoma Shag Dance & Contest
DESCRIPTION:1st Annual Lowcountry Sertoma Shag Dance & Contestin Downtown Historic Walterboro Amateur Adult & Junior Shag ContestEntry Fee for Contest:  Adult - $10.00 per coupleNo Entry Fee for Junior Contest DJ's Pat Patterson\, Butch Davidson & Joe PendarvisShagging Under the Stars Gate Opens @ 7:00 pm$5.00 per person for Shag Club Members$7.00 per person for non-Shag Club Members Hotel Packages - VIP Reception - Free Shuttle Come Join the Fun!
X-ALT-DESC;FMTTYPE=text/html:<div style="text-align: center"><span style="font-size: small"><span style="font-family: Comic Sans MS">1st Annual Lowcountry Sertoma Shag Dance &amp\; Contest</span></span></div><div style="text-align: center"><span style="font-size: small"><span style="font-family: Comic Sans MS">in Downtown Historic Walterboro</span></span></div><div style="text-align: center">&nbsp\;</div><div style="text-align: center"><span style="font-size: small"><span style="font-family: Comic Sans MS">Amateur Adult &amp\; Junior Shag Contest</span></span></div><div style="text-align: center"><span style="font-size: x-small"><span style="font-family: Comic Sans MS">Entry Fee for Contest:&nbsp\; Adult - $10.00 per couple</span></span></div><div style="text-align: center"><span style="font-size: small"><span style="font-family: Comic Sans MS">No Entry Fee for Junior Contest</span></span></div><div style="text-align: center">&nbsp\;</div><div style="text-align: center"><span style="font-size: small"><span style="font-family: Comic Sans MS">DJ's Pat Patterson\, Butch Davidson &amp\; Joe Pendarvis</span></span></div><div style="text-align: center"><span style="font-size: small"><span style="font-family: Comic Sans MS">Shagging Under the Stars</span></span></div><div style="text-align: center">&nbsp\;</div><div style="text-align: center"><span style="font-size: small"><span style="font-family: Comic Sans MS">Gate Opens @ 7:00 pm</span></span></div><div style="text-align: center"><span style="font-size: small"><span style="font-family: Comic Sans MS">$5.00 per person for Shag Club Members</span></span></div><div style="text-align: center"><span style="font-size: small"><span style="font-family: Comic Sans MS">$7.00 per person for non-Shag Club Members</span></span></div><div style="text-align: center">&nbsp\;</div><div style="text-align: center"><span style="font-size: small"><span style="font-family: Comic Sans MS">Hotel Packages - VIP&nbsp\;Reception -&nbsp\;Free Shuttle</span></span></div><div style="text-align: center">&nbsp\;</div><div style="text-align: center"><span style="font-size: small"><span style="font-family: Comic Sans MS">Come Join the Fun!</span></span></div><div style="text-align: center">&nbsp\;</div>
LOCATION:Downtown Walterboro Parking Lot
UID:e.528.192
SEQUENCE:3
DTSTAMP:20260424T055507Z
URL:https://business.colletonchamber.org/events/details/1st-annual-lowcountry-sertoma-shag-dance-contest-08-06-2010-192
END:VEVENT

END:VCALENDAR
