BEGIN:VCALENDAR
VERSION:2.0
PRODID:-//ChamberMaster//Event Calendar 2.0//EN
METHOD:PUBLISH
X-PUBLISHED-TTL:P3D
REFRESH-INTERVAL:P3D
CALSCALE:GREGORIAN
BEGIN:VEVENT
DTSTART:20110506T220000Z
DTEND:20110507T160000Z
X-MICROSOFT-CDO-ALLDAYEVENT:FALSE
SUMMARY:22nd Walterboro Rodeo
DESCRIPTION:7 Event IPRA Rodeo\n\nGates open 6PM  Rodeo 8PM\n\n2 Children 10 and under FREE with one paid adult admission
X-ALT-DESC;FMTTYPE=text/html:7 Event IPRA Rodeo\n<br>Gates open 6PM  Rodeo 8PM\n<br>2 Children 10 and under FREE with one paid adult admission
LOCATION:Double D Arena 1256 Rodeo Dr. Walterboro SC 29488
UID:e.528.270
SEQUENCE:3
DTSTAMP:20260423T192927Z
URL:https://business.colletonchamber.org/events/details/22nd-walterboro-rodeo-05-06-2011-270
END:VEVENT

END:VCALENDAR
