BEGIN:VCALENDAR
VERSION:2.0
PRODID:-//ChamberMaster//Event Calendar 2.0//EN
METHOD:PUBLISH
X-PUBLISHED-TTL:P3D
REFRESH-INTERVAL:P3D
CALSCALE:GREGORIAN
BEGIN:VEVENT
DTSTART;VALUE=DATE:20110727
DTEND;VALUE=DATE:20110731
TRANSP:TRANSPARENT
X-MICROSOFT-CDO-ALLDAYEVENT:TRUE
SUMMARY:23rd Annual Edisto Marina Bullfish Tournament
DESCRIPTION:Bullfish Fishing Tournament
X-ALT-DESC;FMTTYPE=text/html:Bullfish Fishing Tournament
LOCATION:Edisto Marina\, 3702 Docksite Road\, Edisto Beach
UID:e.528.264
SEQUENCE:3
DTSTAMP:20260423T154730Z
URL:https://business.colletonchamber.org/events/details/23rd-annual-edisto-marina-bullfish-tournament-07-27-2011-264
END:VEVENT

END:VCALENDAR
