BEGIN:VCALENDAR
VERSION:2.0
PRODID:-//ChamberMaster//Event Calendar 2.0//EN
METHOD:PUBLISH
X-PUBLISHED-TTL:P3D
REFRESH-INTERVAL:P3D
CALSCALE:GREGORIAN
BEGIN:VEVENT
DTSTART:20130503T220000Z
DTEND:20130503T220000Z
X-MICROSOFT-CDO-ALLDAYEVENT:FALSE
SUMMARY:24th Annual IPRA Walterboro Pro Rodeo
DESCRIPTION:24th. Annual Walterboro Pro Rodeo..\n\n1256 Rodeo Drive\, Walterboro\,SC. 29488\n\nMay 3rd and 4th 2013\n\nGates Open at 6pm\n\nOffice # 843-893-2001\n\nHost Hotel : Microtel - Walterboro\,SC.\n\nCell # Mark Derry 843-909-0097\n\nCell # Tommie Derry 843-909-4849\n\nFACEBOOK: walterboro pro rodeo\n\nWebsite: www.walterboroprorodeo.com\n\nFamily Event - No coolers or alchol permitted .\n\nAdvanced Tickets $18.00\n\nAt the Gate $20.00\n\n\n\nA full 7 Event Pro Rodeo - Juist like on TV..\n\nSpecial Entertainment as well for half time.. Straight from Madison Square Gardens to our event.\n\nNO COOLERS OR ALCHOL PERMITTED.\n\n30 FT Slides and Jump Castles\, trains\,\n\nCalf Scammble for children and Mothers..\n\n\n\nFollow us on FACEBOOK : walterboro pro rodeo
X-ALT-DESC;FMTTYPE=text/html:24th. Annual Walterboro Pro Rodeo..<br />\n1256 Rodeo Drive\, Walterboro\,SC. 29488<br />\nMay 3rd and 4th 2013<br />\nGates Open at 6pm<br />\nOffice # 843-893-2001<br />\nHost Hotel : Microtel - Walterboro\,SC.<br />\nCell # Mark Derry 843-909-0097<br />\nCell # Tommie Derry 843-909-4849<br />\nFACEBOOK: walterboro pro rodeo<br />\nWebsite: <a href="http://www.walterboroprorodeo.com/">www.walterboroprorodeo.com</a><br />\nFamily Event - No coolers or alchol permitted .<br />\nAdvanced Tickets $18.00<br />\nAt the Gate $20.00<br />\n<br />\nA full 7 Event Pro Rodeo - Juist like on TV..<br />\nSpecial Entertainment as well for half time.. Straight from Madison Square Gardens to our event.<br />\nNO COOLERS OR ALCHOL PERMITTED.<br />\n30 FT Slides and Jump Castles\, trains\,<br />\nCalf Scammble for children and Mothers..<br />\n<br />\nFollow us on FACEBOOK : walterboro pro rodeo<br />\n<br />\n
LOCATION:1256 Rodeo Drive Walterboro\, SC. 29488
UID:e.528.482
SEQUENCE:3
DTSTAMP:20260422T083723Z
URL:https://business.colletonchamber.org/events/details/24th-annual-ipra-walterboro-pro-rodeo-05-03-2013-482
END:VEVENT

END:VCALENDAR
