BEGIN:VCALENDAR
VERSION:2.0
PRODID:-//ChamberMaster//Event Calendar 2.0//EN
METHOD:PUBLISH
X-PUBLISHED-TTL:P3D
REFRESH-INTERVAL:P3D
CALSCALE:GREGORIAN
BEGIN:VEVENT
DTSTART:20120526T120000Z
DTEND:20120526T160000Z
X-MICROSOFT-CDO-ALLDAYEVENT:FALSE
SUMMARY:2d Annual Veterans of Foriegn Wars Fund Raiser Golf Tournament
DESCRIPTION:The 2nd Annual VFW Memorial Day Fundraiser Golf Tournament\n\n	Saturday May 26\, 2012\, Registration @ 8 AM SHOTGUN START 9 AM                      \n\n	Dogwood Hills Golf Club\,1 Dogwood Lane\, Walterboro\, SC 29488-8506\n\n	(843) 538-8316\n\n	INDIVIDUAL PLAYER $50.00\n\n	2 PERSON CAPTAIN'S CHOICE                                                                     Tournament Sponsor:  -4 golfers & signage Tee or Green $230.00\n\n	                                                -2 golfers & signage Tee or green $140.00\n\n	                                                - Signage only $50.00 Tee or Green\n\n	1st place prizes include trophies\, two 18 holes of golf @ Plantation Golf Course in Edisto Island SC\, two $25 gift certificates Dockside Restaurant in Edisto Island SC. Drawings will be held for two $25 gift certificates from Courtney Bay Seafood\, Walterboro SC\, two rounds of golf @ Dogwood Hills Golf Club LLC\, Walterboro SC\,  Palmetto Dunes Oceanfront Resort\, Hilton Head\, SC accompanied by the VFW Commander and Tournament Chairman\, Santee National\, Santee SC\, Patriots Point Golf Course\, Mount Pleasant SC\, George Miler Golf Course\, Summerville SC\, St George Country Club St George SC\, Holly Hill Country Club Holly Hill SC and much more. Lunch will be served @ Courtney Bay Seafood located @ the Golf Club @ the conclusion of the tournament.  Please contact Vince Ackerman\, Tournament Chairman  @ 910-797-0263 or email vinackerman02@aol.com or Bill Proctor\, Post Commander @ 803-237-6886 or email billproctor@frontier.com\n\n	The 2nd Annual VFW Memorial Day Fundraiser Golf Tournament\n\n	Saturday May 26\, 2012\, Registration @ 8 am SHOTGUN START 9 am \n\n	Dogwood Hills Golf Club\, 1 Dogwood Lane\, Walterboro SC                  \n\n	 \n\n	Please mail to: VFW post 12102\, PO Box 602 Walterboro\, SC 29488\n\n	ENTRY FORM \n\n	Name:_______________________________________________\n\n	Bus/Org:_____________________________________________\n\n	Address:_____________________City:_____________________State:__________    \n\n	Phone:_____________________email:__________________________\n\n	Team/People You want to play with: (1)______________________________(2)_________________________________________\n\n	(3)______________________________(4)__________________________________________\n\n	Tournament Sponsor:  -4 golfers & signage Tee or Green $230.00\n\n	                                                -2 golfers & signage Tee or green $140.00\n\n	                                                - Signage only $50.00 Tee or Green \n\n	 \n\n	Prizes include golf packages\, gift certificates and much more.
X-ALT-DESC;FMTTYPE=text/html:<p align="center" class="MsoNormal" style="text-align: center\; margin: 0in 0in 10pt">\n	<b style="mso-bidi-font-weight: normal"><i style="mso-bidi-font-style: normal"><span style="line-height: 115%\; font-size: 22pt\; mso-bidi-font-family: aharoni"><font face="Calibri"><font color="#000000">The 2<sup>nd</sup> Annual VFW Memorial Day Fundraiser Golf Tournament<o:p></o:p></font></font></span></i></b></p>\n<p align="center" class="MsoNormal" style="text-align: center\; margin: 0in 0in 10pt">\n	<font face="Calibri"><font color="#000000"><b style="mso-bidi-font-weight: normal"><i style="mso-bidi-font-style: normal"><span style="line-height: 115%\; font-size: 22pt\; mso-bidi-font-family: aharoni">Saturday May 26\, 2012\, Registration @ 8 AM</span></i></b><b style="mso-bidi-font-weight: normal"><i style="mso-bidi-font-style: normal"><span style="line-height: 115%\; font-size: 14pt\; mso-bidi-font-family: aharoni"> SHOTGUN START 9 AM</span></i></b><b style="mso-bidi-font-weight: normal"><i style="mso-bidi-font-style: normal"><span style="line-height: 115%\; font-size: 20pt\; mso-bidi-font-family: aharoni"><span style="mso-spacerun: yes">&nbsp\;&nbsp\;&nbsp\;&nbsp\;&nbsp\;&nbsp\;&nbsp\;&nbsp\;&nbsp\;&nbsp\;&nbsp\;&nbsp\;&nbsp\;&nbsp\;&nbsp\;&nbsp\;&nbsp\;&nbsp\;&nbsp\;&nbsp\;&nbsp\; </span></span></i></b><b style="mso-bidi-font-weight: normal"><i style="mso-bidi-font-style: normal"><span style="line-height: 115%\; font-size: 22pt\; mso-bidi-font-family: aharoni"><o:p></o:p></span></i></b></font></font></p>\n<p align="center" class="MsoNormal" style="text-align: center\; margin: 0in 0in 10pt">\n	<b style="mso-bidi-font-weight: normal"><i style="mso-bidi-font-style: normal"><span style="line-height: 115%\; font-size: 22pt\; mso-bidi-font-family: aharoni"><font color="#000000" face="Calibri">Dogwood Hills Golf Club\,</font></span></i></b><span style="line-height: 115%\; font-family: 'arial'\, 'sans-serif'\; font-size: 10pt"><font color="#000000">1 Dogwood Lane\, Walterboro\, SC 29488-8506<br />\n	(843) 538-8316<o:p></o:p></font></span></p>\n<p align="center" class="MsoNormal" style="text-align: center\; margin: 0in 0in 10pt">\n	<b style="mso-bidi-font-weight: normal"><span style="line-height: 115%\; font-family: 'arial'\, 'sans-serif'\; font-size: 16pt"><font color="#000000">INDIVIDUAL PLAYER $50.00<o:p></o:p></font></span></b></p>\n<p class="MsoNormal" style="margin: 0in 0in 10pt">\n	<font color="#000000"><font face="Calibri"><b style="mso-bidi-font-weight: normal"><i style="mso-bidi-font-style: normal"><span style="line-height: 115%\; font-size: 14pt\; mso-bidi-font-family: aharoni">2 PERSON CAPTAIN&rsquo\;S CHOICE<span style="mso-spacerun: yes">&nbsp\;&nbsp\;&nbsp\;&nbsp\;&nbsp\;&nbsp\; </span><span style="mso-spacerun: yes">&nbsp\;&nbsp\;&nbsp\;</span><span style="mso-spacerun: yes">&nbsp\;&nbsp\;&nbsp\;&nbsp\;&nbsp\;&nbsp\;&nbsp\;&nbsp\;&nbsp\;&nbsp\;&nbsp\;&nbsp\;&nbsp\;&nbsp\;&nbsp\;&nbsp\;</span></span></i></b><b style="mso-bidi-font-weight: normal"><i style="mso-bidi-font-style: normal"><span style="line-height: 115%\; font-size: 20pt\; mso-bidi-font-family: aharoni"><span style="mso-spacerun: yes">&nbsp\;&nbsp\;&nbsp\;&nbsp\;&nbsp\;&nbsp\;&nbsp\;&nbsp\;&nbsp\;</span><span style="mso-spacerun: yes">&nbsp\;&nbsp\;&nbsp\;</span><span style="mso-spacerun: yes">&nbsp\;</span><span style="mso-spacerun: yes">&nbsp\;&nbsp\;&nbsp\;&nbsp\;&nbsp\;&nbsp\;&nbsp\;&nbsp\;&nbsp\;&nbsp\;&nbsp\;&nbsp\;&nbsp\;&nbsp\;&nbsp\;&nbsp\;&nbsp\;&nbsp\;&nbsp\;&nbsp\;&nbsp\;&nbsp\;&nbsp\;&nbsp\;&nbsp\;&nbsp\;&nbsp\;&nbsp\;&nbsp\;&nbsp\;</span></span></i></b><b style="mso-bidi-font-weight: normal"><i style="mso-bidi-font-style: normal"><span style="line-height: 115%\; font-size: 14pt\; mso-bidi-font-family: aharoni">Tournament Sponsor: <span style="mso-spacerun: yes">&nbsp\;</span></span></i></b><b style="mso-bidi-font-weight: normal"><i style="mso-bidi-font-style: normal"><span style="line-height: 115%\; font-size: 12pt\; mso-bidi-font-family: aharoni">-4 golfers &amp\; signage Tee or</span></i></b><b style="mso-bidi-font-weight: normal"><i style="mso-bidi-font-style: normal"><span style="line-height: 115%\; font-size: 14pt\; mso-bidi-font-family: aharoni"> </span></i></b><b style="mso-bidi-font-weight: normal"><i style="mso-bidi-font-style: normal"><span style="line-height: 115%\; font-size: 12pt\; mso-bidi-font-family: aharoni">Green $230.00<o:p></o:p></span></i></b></font></font></p>\n<p class="MsoNormal" style="margin: 0in 0in 10pt">\n	<b style="mso-bidi-font-weight: normal"><i style="mso-bidi-font-style: normal"><span style="line-height: 115%\; font-size: 12pt\; mso-bidi-font-family: aharoni"><font color="#000000"><font face="Calibri"><span style="mso-spacerun: yes">&nbsp\;&nbsp\;&nbsp\;&nbsp\;&nbsp\;&nbsp\;&nbsp\;&nbsp\;&nbsp\;&nbsp\;&nbsp\;&nbsp\;&nbsp\;&nbsp\;&nbsp\;&nbsp\;&nbsp\;&nbsp\;&nbsp\;&nbsp\;&nbsp\;&nbsp\;&nbsp\;&nbsp\;&nbsp\;&nbsp\;&nbsp\;&nbsp\;&nbsp\;&nbsp\;&nbsp\;&nbsp\;&nbsp\;&nbsp\;&nbsp\;&nbsp\;&nbsp\;&nbsp\;&nbsp\;&nbsp\;&nbsp\;&nbsp\;&nbsp\;&nbsp\;&nbsp\;&nbsp\;&nbsp\; </span>-2 golfers &amp\; signage Tee or green $140.00<o:p></o:p></font></font></span></i></b></p>\n<p class="MsoNormal" style="margin: 0in 0in 10pt">\n	<b style="mso-bidi-font-weight: normal"><i style="mso-bidi-font-style: normal"><span style="line-height: 115%\; font-size: 12pt\; mso-bidi-font-family: aharoni"><font color="#000000"><font face="Calibri"><span style="mso-spacerun: yes">&nbsp\;&nbsp\;&nbsp\;&nbsp\; </span><span style="mso-spacerun: yes">&nbsp\;&nbsp\;&nbsp\;&nbsp\;&nbsp\;&nbsp\;&nbsp\;&nbsp\;&nbsp\;&nbsp\;&nbsp\;&nbsp\;&nbsp\;&nbsp\;&nbsp\;&nbsp\;&nbsp\;&nbsp\;&nbsp\;&nbsp\;&nbsp\;&nbsp\;&nbsp\;&nbsp\;&nbsp\;&nbsp\;&nbsp\;&nbsp\;&nbsp\;&nbsp\;&nbsp\;&nbsp\;&nbsp\;&nbsp\;&nbsp\;&nbsp\;&nbsp\;&nbsp\;&nbsp\;&nbsp\;&nbsp\;&nbsp\;&nbsp\;</span>- Signage only $50.00 Tee or Green<o:p></o:p></font></font></span></i></b></p>\n<p class="MsoNormal" style="margin: 0in 0in 10pt">\n	<font face="Calibri"><b style="mso-bidi-font-weight: normal"><i style="mso-bidi-font-style: normal"><span style="line-height: 115%\; font-size: 12pt\; mso-bidi-font-family: aharoni"><font color="#000000">1<font size="3"><sup>st</sup> place prizes include trophies\, two 18 holes of golf @ Plantation Golf Course in Edisto Island SC\, two $25 gift certificates Dockside Restaurant in Edisto Island SC. Drawings will be held for two $25 gift certificates from Courtney Bay Seafood\, Walterboro SC\, two rounds of golf @ Dogwood Hills Golf Club LLC\, Walterboro SC\, <span style="mso-spacerun: yes">&nbsp\;</span>Palmetto Dunes Oceanfront Resort\, Hilton Head\, SC accompanied by the VFW Commander and Tournament Chairman\, Santee National\, Santee SC\, Patriots Point Golf Course\, Mount Pleasant SC\, George Miler Golf Course\, Summerville SC\, St George Country Club St George SC\, Holly Hill Country Club Holly Hill SC and much more. Lunch will be served @ Courtney Bay Seafood located @ the Golf Club @ the conclusion of the tournament.</font></font></span></i></b><span style="mso-no-proof: yes"><font color="#000000"><font size="3"><span style="mso-spacerun: yes">&nbsp\; </span>Please contact Vince Ackerman\, Tournament Chairman <span style="mso-spacerun: yes">&nbsp\;</span>@ 910-797-0263 or email </font></font><a href="mailto:vinackerman02@aol.com"><font color="#0000ff" size="3">vinackerman02@aol.com</font></a><font size="3"><font color="#000000"> or Bill Proctor\, Post Commander @ 803-237-6886 or email billproctor@frontier.com<o:p></o:p></font></font></span></font></p>\n<p align="center" class="MsoNormal" style="text-align: center\; margin: 0in 0in 10pt">\n	<b style="mso-bidi-font-weight: normal"><i style="mso-bidi-font-style: normal"><span style="line-height: 115%\; font-size: 12pt\; mso-bidi-font-family: aharoni"><font color="#000000"><font face="Calibri">The 2<sup>nd</sup> Annual VFW Memorial Day Fundraiser Golf Tournament<o:p></o:p></font></font></span></i></b></p>\n<p align="center" class="MsoNormal" style="text-align: center\; margin: 0in 0in 10pt">\n	<b style="mso-bidi-font-weight: normal"><i style="mso-bidi-font-style: normal"><span style="line-height: 115%\; font-size: 12pt\; mso-bidi-font-family: aharoni"><font color="#000000"><font face="Calibri">Saturday May 26\, 2012\, Registration @ 8 am SHOTGUN START 9 am <o:p></o:p></font></font></span></i></b></p>\n<p align="center" class="MsoNormal" style="text-align: center\; margin: 0in 0in 10pt">\n	<b style="mso-bidi-font-weight: normal"><i style="mso-bidi-font-style: normal"><span style="line-height: 115%\; font-size: 12pt\; mso-bidi-font-family: aharoni"><font color="#000000"><font face="Calibri">Dogwood Hills Golf Club\, 1 Dogwood Lane\, Walterboro SC<span style="mso-spacerun: yes">&nbsp\;&nbsp\;&nbsp\;&nbsp\;&nbsp\;&nbsp\;&nbsp\;&nbsp\;&nbsp\;&nbsp\;&nbsp\;&nbsp\;&nbsp\;&nbsp\;&nbsp\;&nbsp\;&nbsp\; </span><o:p></o:p></font></font></span></i></b></p>\n<p align="center" class="MsoNormal" style="text-align: center\; margin: 0in 0in 10pt">\n	<b style="mso-bidi-font-weight: normal"><i style="mso-bidi-font-style: normal"><span style="line-height: 115%\; font-size: 16pt\; mso-bidi-font-family: aharoni"><o:p><font color="#000000" face="Calibri">&nbsp\;</font></o:p></span></i></b></p>\n<p align="center" class="MsoNormal" style="text-align: center\; margin: 0in 0in 10pt">\n	<b style="mso-bidi-font-weight: normal"><i style="mso-bidi-font-style: normal"><span style="line-height: 115%\; font-size: 12pt\; mso-bidi-font-family: aharoni"><font color="#000000"><font face="Calibri">Please mail to: VFW post 12102\, PO Box 602 Walterboro\, SC 29488<o:p></o:p></font></font></span></i></b></p>\n<p align="center" class="MsoNormal" style="text-align: center\; margin: 0in 0in 10pt">\n	<b style="mso-bidi-font-weight: normal"><i style="mso-bidi-font-style: normal"><span style="line-height: 115%\; font-size: 12pt\; mso-bidi-font-family: aharoni"><font color="#000000"><font face="Calibri">ENTRY FORM <o:p></o:p></font></font></span></i></b></p>\n<p class="MsoNormal" style="margin: 0in 0in 10pt">\n	<b style="mso-bidi-font-weight: normal"><i style="mso-bidi-font-style: normal"><span style="line-height: 115%\; font-size: 12pt\; mso-bidi-font-family: aharoni"><font color="#000000"><font face="Calibri">Name:_______________________________________________<o:p></o:p></font></font></span></i></b></p>\n<p class="MsoNormal" style="margin: 0in 0in 10pt">\n	<b style="mso-bidi-font-weight: normal"><i style="mso-bidi-font-style: normal"><span style="line-height: 115%\; font-size: 12pt\; mso-bidi-font-family: aharoni"><font color="#000000"><font face="Calibri">Bus/Org:_____________________________________________<o:p></o:p></font></font></span></i></b></p>\n<p class="MsoNormal" style="margin: 0in 0in 10pt">\n	<b style="mso-bidi-font-weight: normal"><i style="mso-bidi-font-style: normal"><span style="line-height: 115%\; font-size: 12pt\; mso-bidi-font-family: aharoni"><font color="#000000"><font face="Calibri">Address:_____________________City:_____________________State:__________<span style="mso-spacerun: yes">&nbsp\;&nbsp\;&nbsp\; </span><o:p></o:p></font></font></span></i></b></p>\n<p class="MsoNormal" style="margin: 0in 0in 10pt">\n	<b style="mso-bidi-font-weight: normal"><i style="mso-bidi-font-style: normal"><span style="line-height: 115%\; font-size: 12pt\; mso-bidi-font-family: aharoni"><font color="#000000"><font face="Calibri">Phone:_____________________email:__________________________<o:p></o:p></font></font></span></i></b></p>\n<p class="MsoNormal" style="margin: 0in 0in 10pt">\n	<b style="mso-bidi-font-weight: normal"><i style="mso-bidi-font-style: normal"><span style="line-height: 115%\; font-size: 12pt\; mso-bidi-font-family: aharoni"><font color="#000000"><font face="Calibri">Team/People You want to play with: (1)______________________________(2)_________________________________________<o:p></o:p></font></font></span></i></b></p>\n<p class="MsoNormal" style="margin: 0in 0in 10pt">\n	<b style="mso-bidi-font-weight: normal"><i style="mso-bidi-font-style: normal"><span style="line-height: 115%\; font-size: 12pt\; mso-bidi-font-family: aharoni"><font color="#000000"><font face="Calibri">(3)______________________________(4)__________________________________________<o:p></o:p></font></font></span></i></b></p>\n<p class="MsoNormal" style="margin: 0in 0in 10pt">\n	<font color="#000000"><font face="Calibri"><b style="mso-bidi-font-weight: normal"><i style="mso-bidi-font-style: normal"><span style="line-height: 115%\; font-size: 14pt\; mso-bidi-font-family: aharoni">Tournament Sponsor:<span style="mso-spacerun: yes">&nbsp\; </span></span></i></b><b style="mso-bidi-font-weight: normal"><i style="mso-bidi-font-style: normal"><span style="line-height: 115%\; font-size: 12pt\; mso-bidi-font-family: aharoni">-4 golfers &amp\; signage Tee or</span></i></b><b style="mso-bidi-font-weight: normal"><i style="mso-bidi-font-style: normal"><span style="line-height: 115%\; font-size: 14pt\; mso-bidi-font-family: aharoni"> </span></i></b><b style="mso-bidi-font-weight: normal"><i style="mso-bidi-font-style: normal"><span style="line-height: 115%\; font-size: 12pt\; mso-bidi-font-family: aharoni">Green $230.00<o:p></o:p></span></i></b></font></font></p>\n<p class="MsoNormal" style="margin: 0in 0in 10pt">\n	<b style="mso-bidi-font-weight: normal"><i style="mso-bidi-font-style: normal"><span style="line-height: 115%\; font-size: 12pt\; mso-bidi-font-family: aharoni"><font color="#000000"><font face="Calibri"><span style="mso-spacerun: yes">&nbsp\;&nbsp\;&nbsp\;&nbsp\;&nbsp\;&nbsp\;&nbsp\;&nbsp\;&nbsp\;&nbsp\;&nbsp\;&nbsp\;&nbsp\;&nbsp\;&nbsp\;&nbsp\;&nbsp\;&nbsp\;&nbsp\;&nbsp\;&nbsp\;&nbsp\;&nbsp\;&nbsp\;&nbsp\;&nbsp\;&nbsp\;&nbsp\;&nbsp\;&nbsp\;&nbsp\;&nbsp\;&nbsp\;&nbsp\;&nbsp\;&nbsp\;&nbsp\;&nbsp\;&nbsp\;&nbsp\;&nbsp\;&nbsp\;&nbsp\;&nbsp\;&nbsp\;&nbsp\;&nbsp\; </span>-2 golfers &amp\; signage Tee or green $140.00<o:p></o:p></font></font></span></i></b></p>\n<p class="MsoNormal" style="margin: 0in 0in 10pt">\n	<font color="#000000"><font face="Calibri"><b style="mso-bidi-font-weight: normal"><i style="mso-bidi-font-style: normal"><span style="line-height: 115%\; font-size: 12pt\; mso-bidi-font-family: aharoni"><span style="mso-spacerun: yes">&nbsp\;&nbsp\;&nbsp\;&nbsp\;&nbsp\;&nbsp\;&nbsp\;&nbsp\;&nbsp\;&nbsp\;&nbsp\;&nbsp\;&nbsp\;&nbsp\;&nbsp\;&nbsp\;&nbsp\;&nbsp\;&nbsp\;&nbsp\;&nbsp\;&nbsp\;&nbsp\;&nbsp\;&nbsp\;&nbsp\;&nbsp\;&nbsp\;&nbsp\;&nbsp\;&nbsp\;&nbsp\;&nbsp\;&nbsp\;&nbsp\;&nbsp\;&nbsp\;&nbsp\;&nbsp\;&nbsp\;&nbsp\;&nbsp\;&nbsp\;&nbsp\;&nbsp\;&nbsp\;&nbsp\; </span>- Signage only $50.00 Tee or Green</span></i></b><font size="3"> </font></font></font></p>\n<p class="MsoNormal" style="margin: 0in 0in 10pt">\n	<o:p><font color="#000000" face="Calibri" size="3">&nbsp\;</font></o:p></p>\n<p class="MsoNormal" style="margin: 0in 0in 10pt">\n	<b style="mso-bidi-font-weight: normal"><i style="mso-bidi-font-style: normal"><span style="line-height: 115%\; font-size: 12pt\; mso-bidi-font-family: aharoni"><font color="#000000"><font face="Calibri">Prizes include golf packages\, gift certificates and much more.<span style="mso-spacerun: yes">&nbsp\;&nbsp\;&nbsp\;&nbsp\;&nbsp\;&nbsp\;&nbsp\;&nbsp\;&nbsp\;&nbsp\; </span></font></font><o:p></o:p></span></i></b></p>\n
LOCATION:Dogwood Hills Golf Club
UID:e.528.367
SEQUENCE:3
DTSTAMP:20260423T013332Z
URL:https://business.colletonchamber.org/events/details/2d-annual-veterans-of-foriegn-wars-fund-raiser-golf-tournament-05-26-2012-367
END:VEVENT

END:VCALENDAR
