BEGIN:VCALENDAR
VERSION:2.0
PRODID:-//ChamberMaster//Event Calendar 2.0//EN
METHOD:PUBLISH
X-PUBLISHED-TTL:P3D
REFRESH-INTERVAL:P3D
CALSCALE:GREGORIAN
BEGIN:VEVENT
DTSTART;VALUE=DATE:20110506
DTEND;VALUE=DATE:20110508
TRANSP:TRANSPARENT
X-MICROSOFT-CDO-ALLDAYEVENT:TRUE
SUMMARY:2nd Annual Edisto Beach Offshore Challenge
DESCRIPTION:Fishing Tournament sponsored by Buck's Pizza & Edisto Marina
X-ALT-DESC;FMTTYPE=text/html:Fishing Tournament sponsored by Buck's Pizza &amp\; Edisto Marina
LOCATION:Edisto Marina
UID:e.528.258
SEQUENCE:3
DTSTAMP:20260423T182543Z
URL:https://business.colletonchamber.org/events/details/2nd-annual-edisto-beach-offshore-challenge-05-06-2011-258
END:VEVENT

END:VCALENDAR
