BEGIN:VCALENDAR
VERSION:2.0
PRODID:-//ChamberMaster//Event Calendar 2.0//EN
METHOD:PUBLISH
X-PUBLISHED-TTL:P3D
REFRESH-INTERVAL:P3D
CALSCALE:GREGORIAN
BEGIN:VEVENT
DTSTART:20101104T230000Z
DTEND:20101105T010000Z
X-MICROSOFT-CDO-ALLDAYEVENT:FALSE
SUMMARY:2nd Annual Holiday Fashion Show
DESCRIPTION:2nd Annual Holiday Fashion Show\n\n	\n\n	Mark your calendar for some of the most fun you can have!\n\n	 \n\n	Highlighting:\n\n	Colleton's Fine Clothing\n\n	Belk Department\n\n	Mens and Womens Fall/Winter Fashions will be shown.\n\n	\n\n	The accessories for the evening will feature art from the Artisans Center.\n\n	We encourage all of you to visit us during the Holidays and\n\n	select your own piece of original art to wear.\n\n	We hope you enjoy your evening.\n\n	\n\n	Heavy Hors D' oeuvres\n\n	Open Bar
X-ALT-DESC;FMTTYPE=text/html:<p style="text-align: center">\n	<span style="font-family: verdana"><span style="font-size: 16px"><span style="font-size: 18px">2nd Annual Holiday Fashion Show</span><br />\n	<br />\n	<span style="font-size: 14px">Mark your calendar for some of the most fun you can have!<br />\n	&nbsp\;<br />\n	Highlighting:<br />\n	Colleton&rsquo\;s Fine Clothing<br />\n	Belk Department<br />\n	Mens and Womens Fall/Winter Fashions will be shown.<br />\n	<br />\n	The accessories for the evening will feature art from the Artisans Center.<br />\n	We encourage all of you to visit us during the Holidays and<br />\n	select your own piece of original art to wear.<br />\n	We hope you enjoy your evening.<br />\n	<br />\n	Heavy Hors D&rsquo\; oeuvres<br />\n	Open Bar<br />\n	<span _fck_bookmark="1" style="display: none">&nbsp\;</span></span></span></span></p>\n
LOCATION:SC Artisans Center 318 Wichman Street
UID:e.528.203
SEQUENCE:3
DTSTAMP:20260424T022358Z
URL:https://business.colletonchamber.org/events/details/2nd-annual-holiday-fashion-show-11-04-2010-203
END:VEVENT

END:VCALENDAR
