BEGIN:VCALENDAR
VERSION:2.0
PRODID:-//ChamberMaster//Event Calendar 2.0//EN
METHOD:PUBLISH
X-PUBLISHED-TTL:P3D
REFRESH-INTERVAL:P3D
CALSCALE:GREGORIAN
BEGIN:VEVENT
DTSTART:20240727T140000Z
DTEND:20240727T200000Z
X-MICROSOFT-CDO-ALLDAYEVENT:FALSE
SUMMARY:3rd Annual SC Small Rural Business Workshop
DESCRIPTION:Registration\n\n\n\nTo register for this FREE workshop\, click here. The deadline to register is 7/22/24. A catered lunch will be provided. To register click this link https://forms.gle/hoe5baydrj3U516eA\n\n\n\n\n\nBonus\n\nThe first 5 to register will receive a FREE 30-minute consultation from NCGrowth South Carolina\n\n\n\n\n\nDescription\n\nJoin NCGrowth staff\, subject-matter experts\, and small business owners as we explore the challenges facing small rural businesses in South Carolina. By participating in this workshop\, you will learn about resources currently available to help grow your business. You will also have the opportunity to talk directly to local\, state\, and federal agencies\, business and community resource partners\, and other business owners. Having access to this new integrated network of resources will help you position your business to thrive and be more sustainable in the local and regional economy.\n\n\n\n\n\nWorkshop Sessions\n\n1. Cultural Heritage and Agritourism in the Lowcountry\n\n2. Heirs Property and Land Management\n\n3. Inclusive Lending for Small Businesses in Rural Communities\n\n4. Procurement Ready vs. Business Ready\n\n5. Succession and Legacy Planning for Family-owned Businesses\n\n\n\n\n\nSmall Business Showcase and Business Resource Fair\n\nDuring lunch and in between sessions\, stop by and visit some of our recent clients who are local small business owners. Community and business resource partners will also be available to discuss their programs and other available resources.\n\n\n\n\n\nFor more information\, contact\n\nKellye Whitaker\n\nAssociate Director\, South Carolina\n\nNCGrowth\n\nKellye_whitaker@unc.edu
X-ALT-DESC;FMTTYPE=text/html:<div background-color:="" class="xdj266r x11i5rnm xat24cr x1mh8g0r x1vvkbs x126k92a" color:="" font-size:="" segoe="" style="margin: 0px\; overflow-wrap: break-word\; white-space-collapse: preserve\; font-family: " ui="">\n<div dir="auto" style="font-family: inherit\;">Registration</div>\n</div>\n\n<div background-color:="" class="x11i5rnm xat24cr x1mh8g0r x1vvkbs xtlvy1s x126k92a" color:="" font-size:="" segoe="" style="margin: 0.5em 0px 0px\; overflow-wrap: break-word\; white-space-collapse: preserve\; font-family: " ui="">\n<div dir="auto" style="font-family: inherit\;">To register for this FREE workshop\, click here. The deadline to register is 7/22/24. A catered lunch will be provided. To register click this link <span class="html-span xdj266r x11i5rnm xat24cr x1mh8g0r xexx8yu x4uap5 x18d9i69 xkhd6sd x1hl2dhg x16tdsg8 x1vvkbs" style="margin: 0px\; text-align: inherit\; overflow-wrap: break-word\; padding: 0px\; font-family: inherit\;"><a class="x1i10hfl xjbqb8w x1ejq31n xd10rxx x1sy0etr x17r0tee x972fbf xcfux6l x1qhh985 xm0m39n x9f619 x1ypdohk xt0psk2 xe8uvvx xdj266r x11i5rnm xat24cr x1mh8g0r xexx8yu x4uap5 x18d9i69 xkhd6sd x16tdsg8 x1hl2dhg xggy1nq x1a2a7pz x1sur9pj xkrqix3 x1fey0fg" href="https://l.facebook.com/l.php?u=https%3A%2F%2Fforms.gle%2Fhoe5baydrj3U516eA%3Ffbclid%3DIwZXh0bgNhZW0CMTAAAR3-dCQ86iwGHvIlF_GXrqFvnzqx9P2raxjoPHh8btaW1QlUtiZFqhJBJXo_aem_CKs2ctwE3nyhMPU1u6Rjfg&amp\;h=AT0MUIJZvW_9p9_3R1hPADDgcaLyDhQ5LEJHIx5ZN65LcX31o6WUIcgaUphDNT7ESh6cM3FpPxa0cNO2HhLrMYOlDbtFa_P2offZXioXdw7hQjiBihhvfnW_nJHD3GONZlWP&amp\;__tn__=-UK-R&amp\;c[0]=AT3LIq7wBuBvefonTbacH2N_FHYGmtiiNfDin-i9-hbEbsXmOVnaebEqYPFcw1bdPsxbr43IxaAsZzmWqvqZxKAk5llOsFReErBsfHZHD4Bdq78_CTOAx1s9CF-FBBib9nZsScHNvsKY1cR516e94Ey6VN4dLSSd5NkecgRqbgu86J7KXU9Sc8dmdPa0dTKCUURH8aBZlUGbo4Y" rel="nofollow noreferrer" role="link" style="color: var(--blue-link)\; cursor: pointer\; text-decoration-line: none\; list-style: none\; margin: 0px\; text-align: inherit\; border-style: none\; padding: 0px\; border-width: 0px\; box-sizing: border-box\; outline: none\; -webkit-tap-highlight-color: transparent\; touch-action: manipulation\; background-color: transparent\; display: inline\; font-family: inherit\;" tabindex="0" target="_blank">https://forms.gle/hoe5baydrj3U516eA</a></span></div>\n</div>\n\n<div background-color:="" class="x11i5rnm xat24cr x1mh8g0r x1vvkbs xtlvy1s x126k92a" color:="" font-size:="" segoe="" style="margin: 0.5em 0px 0px\; overflow-wrap: break-word\; white-space-collapse: preserve\; font-family: " ui="">\n<div dir="auto" style="font-family: inherit\;"><br />\nBonus</div>\n\n<div dir="auto" style="font-family: inherit\;">The first 5 to register will receive a FREE 30-minute consultation from NCGrowth South Carolina</div>\n</div>\n\n<div background-color:="" class="x11i5rnm xat24cr x1mh8g0r x1vvkbs xtlvy1s x126k92a" color:="" font-size:="" segoe="" style="margin: 0.5em 0px 0px\; overflow-wrap: break-word\; white-space-collapse: preserve\; font-family: " ui="">\n<div dir="auto" style="font-family: inherit\;"><br />\nDescription</div>\n\n<div dir="auto" style="font-family: inherit\;">Join NCGrowth staff\, subject-matter experts\, and small business owners as we explore the challenges facing small rural businesses in South Carolina. By participating in this workshop\, you will learn about resources currently available to help grow your business. You will also have the opportunity to talk directly to local\, state\, and federal agencies\, business and community resource partners\, and other business owners. Having access to this new integrated network of resources will help you position your business to thrive and be more sustainable in the local and regional economy.</div>\n</div>\n\n<div background-color:="" class="x11i5rnm xat24cr x1mh8g0r x1vvkbs xtlvy1s x126k92a" color:="" font-size:="" segoe="" style="margin: 0.5em 0px 0px\; overflow-wrap: break-word\; white-space-collapse: preserve\; font-family: " ui="">\n<div dir="auto" style="font-family: inherit\;"><br />\nWorkshop Sessions</div>\n\n<div dir="auto" style="font-family: inherit\;">1. Cultural Heritage and Agritourism in the Lowcountry</div>\n\n<div dir="auto" style="font-family: inherit\;">2. Heirs Property and Land Management</div>\n\n<div dir="auto" style="font-family: inherit\;">3. Inclusive Lending for Small Businesses in Rural Communities</div>\n\n<div dir="auto" style="font-family: inherit\;">4. Procurement Ready vs. Business Ready</div>\n\n<div dir="auto" style="font-family: inherit\;">5. Succession and Legacy Planning for Family-owned Businesses</div>\n</div>\n\n<div background-color:="" class="x11i5rnm xat24cr x1mh8g0r x1vvkbs xtlvy1s x126k92a" color:="" font-size:="" segoe="" style="margin: 0.5em 0px 0px\; overflow-wrap: break-word\; white-space-collapse: preserve\; font-family: " ui="">\n<div dir="auto" style="font-family: inherit\;"><br />\nSmall Business Showcase and Business Resource Fair</div>\n\n<div dir="auto" style="font-family: inherit\;">During lunch and in between sessions\, stop by and visit some of our recent clients who are local small business owners. Community and business resource partners will also be available to discuss their programs and other available resources.</div>\n</div>\n\n<div background-color:="" class="x11i5rnm xat24cr x1mh8g0r x1vvkbs xtlvy1s x126k92a" color:="" font-size:="" segoe="" style="margin: 0.5em 0px 0px\; overflow-wrap: break-word\; white-space-collapse: preserve\; font-family: " ui="">\n<div dir="auto" style="font-family: inherit\;"><br />\nFor more information\, contact</div>\n\n<div dir="auto" style="font-family: inherit\;">Kellye Whitaker</div>\n\n<div dir="auto" style="font-family: inherit\;">Associate Director\, South Carolina</div>\n\n<div dir="auto" style="font-family: inherit\;">NCGrowth</div>\n\n<div dir="auto" style="font-family: inherit\;">Kellye_whitaker@unc.edu</div>\n</div>\n
LOCATION:NCGrowth South Carolina 3rd Annual SC Small Rural Business Workshop Saturday\, July 27\, 2024 10am to 4pm Location: Walterboro\, SC
UID:e.528.3118
SEQUENCE:3
DTSTAMP:20260420T082727Z
URL:https://business.colletonchamber.org/events/details/3rd-annual-sc-small-rural-business-workshop-3118
END:VEVENT

END:VCALENDAR
