BEGIN:VCALENDAR
VERSION:2.0
PRODID:-//ChamberMaster//Event Calendar 2.0//EN
METHOD:PUBLISH
X-PUBLISHED-TTL:P3D
REFRESH-INTERVAL:P3D
CALSCALE:GREGORIAN
BEGIN:VEVENT
DTSTART:20120518T140000Z
DTEND:20120518T200000Z
X-MICROSOFT-CDO-ALLDAYEVENT:FALSE
SUMMARY:6th Annual Walterboro Antiques\, History\, & Arts Festival
DESCRIPTION:The City of Walterboro\, the Colleton Co. Arts Council. the Colleton Co. Historical & Preservation Society\, the Colleton Museum\, SC Artisans Center and the merchants of Downtown Walterboro invites you to the 6th Annual Walterboro Antiques\, History\, & Arts Festival. This two-day event includes an indoor Antique Show both Friday and Saturday. The Opening Night Bar B Q "Jeans & Jewels" will be held at the Museum Friday 6pm. In addition there will be a juried art show on the grounds of the Artisans Center with 20+ Artist demonstrating plus activities planned for children by the CC Arts Council. One of the largest Antique Tractor Show in the Lowcountry will be Downtown with a Tractor Parade running at 11am and 2pm. Wagon Tours of Historic Walterboro and the SC Watermedia Society Show are some of the other events planned.
X-ALT-DESC;FMTTYPE=text/html:<span style="font-family: tahoma">The City of Walterboro\, the Colleton Co. Arts Council. the Colleton Co. Historical &amp\; Preservation Society\, the Colleton Museum\, SC Artisans Center and the merchants of Downtown Walterboro invites you to the 6th Annual Walterboro Antiques\, History\, &amp\; Arts Festival. This two-day event includes an indoor Antique Show both Friday and Saturday. The Opening Night Bar B Q &quot\;Jeans &amp\; Jewels&quot\; will be held at the Museum Friday 6pm. In addition there will be a juried art show on the grounds of the Artisans Center with 20+ Artist demonstrating plus activities planned for children by the CC Arts Council. One of the largest Antique Tractor Show in the Lowcountry will be Downtown with a Tractor Parade running at 11am and 2pm. Wagon Tours of Historic Walterboro and the SC Watermedia Society Show are some of the other events planned.</span>
LOCATION:Downtown Walterboro
UID:e.528.374
SEQUENCE:3
DTSTAMP:20260423T013240Z
URL:https://business.colletonchamber.org/events/details/6th-annual-walterboro-antiques-history-arts-festival-05-18-2012-374
END:VEVENT

END:VCALENDAR
