BEGIN:VCALENDAR
VERSION:2.0
PRODID:-//ChamberMaster//Event Calendar 2.0//EN
METHOD:PUBLISH
X-PUBLISHED-TTL:P3D
REFRESH-INTERVAL:P3D
CALSCALE:GREGORIAN
BEGIN:VEVENT
DTSTART:20130517T140000Z
DTEND:20130518T200000Z
X-MICROSOFT-CDO-ALLDAYEVENT:FALSE
SUMMARY:7th Annual Walterboro Antiques\, History & Arts Festival
DESCRIPTION:The  7th Walterboro Annual Antiques\, History & Arts Festival begins at 10:00 AM on Saturday\, May 17\, 2013\, at the Colleton Museum and concludes at 4:00 PM on Sunday\, May 18\, 2013\, at the Colleton Museum.  The calendar of events for the two days includes South Carolina Watermedia Society 2012 winners\, opening night BBQ including live entertainment by "The Henry's" & a silent auction\, an antique show\, antique appraiser\, juried art show including live music \, house tours of historic Walterboro\, garden tour of Hickory Valley\, antique tractor show and parade and the Colleton County Farmers market.  For the day and time of each event please use the Artisan Center's website:  http://www.scartisanscenter.com.
X-ALT-DESC;FMTTYPE=text/html:The&nbsp\; 7th Walterboro Annual Antiques\, History &amp\; Arts Festival begins at 10:00 AM on Saturday\, May 17\, 2013\, at the Colleton Museum&nbsp\;and concludes&nbsp\;at 4:00 PM on Sunday\, May 18\, 2013\, at the Colleton Museum.&nbsp\; The calendar of events for the two days includes South Carolina Watermedia Society 2012 winners\, opening night BBQ including live entertainment by &quot\;The Henry&#39\;s&quot\; &amp\; a silent auction\, an antique show\, antique appraiser\, juried art show including&nbsp\;live music&nbsp\;\, house tours of historic Walterboro\, garden tour of Hickory Valley\, antique tractor show and parade and the Colleton County Farmers market.&nbsp\; For the day and time of each event please use&nbsp\;the Artisan Center&#39\;s website:&nbsp\; <a href="http://www.scartisancenter.com">http://www.scartisanscenter.com</a>.
LOCATION:Colleton Museum & Farmers Market (beginning location for Friday\, May 17\, 2013) 506 East Washington Street Walterboro\, SC 29488
UID:e.528.488
SEQUENCE:3
DTSTAMP:20260422T093031Z
URL:https://business.colletonchamber.org/events/details/7th-annual-walterboro-antiques-history-arts-festival-05-17-2013-488
END:VEVENT

END:VCALENDAR
