BEGIN:VCALENDAR
VERSION:2.0
PRODID:-//ChamberMaster//Event Calendar 2.0//EN
METHOD:PUBLISH
X-PUBLISHED-TTL:P3D
REFRESH-INTERVAL:P3D
CALSCALE:GREGORIAN
BEGIN:VEVENT
DTSTART:20101114T010000Z
DTEND:20101114T040000Z
X-MICROSOFT-CDO-ALLDAYEVENT:FALSE
SUMMARY:A Bow Tie and Blue Jeans Affairs
DESCRIPTION:3rd Annual "A Bow Tie and Blue Jeans Affairs"\n\n	\n\n	Come "Play" With Us! - Lowcountry Community Players\n\n	Music by the popular local band - "Bedrock"\n\n	with Henry & Matt Hiott\n\n	\n\n	Free beer\, wine & tasty treats between 8:00 - 9:00 pm\n\n	Tickets sold at Downtown Books & Espresso\, Old Bank Christmas *& Gift Shop\n\n	and any LCP board member
X-ALT-DESC;FMTTYPE=text/html:<p style="text-align: center">\n	<span style="font-family: comic sans ms"><span style="font-size: 16px">3rd Annual &quot\;A Bow Tie and Blue Jeans Affairs&quot\;<br />\n	<br />\n	Come &quot\;Play&quot\; With Us! - Lowcountry Community Players<br />\n	Music by the popular local band - &quot\;Bedrock&quot\;<br />\n	<span style="font-size: 11px">with Henry &amp\; Matt Hiott<br />\n	<br />\n	<span style="font-size: 12px">Free beer\, wine &amp\; tasty treats between 8:00 - 9:00 pm<br />\n	Tickets sold at Downtown Books &amp\; Espresso\, Old Bank Christmas *&amp\; Gift Shop<br />\n	and any LCP board member</span></span></span></span><br />\n	<br />\n	&nbsp\;</p>\n
LOCATION:Walterboro Elks Lodge 236 Milestone Lane (off Highway 15)
UID:e.528.201
SEQUENCE:3
DTSTAMP:20260424T022102Z
URL:https://business.colletonchamber.org/events/details/a-bow-tie-and-blue-jeans-affairs-11-13-2010-201
END:VEVENT

END:VCALENDAR
