BEGIN:VCALENDAR
VERSION:2.0
PRODID:-//ChamberMaster//Event Calendar 2.0//EN
METHOD:PUBLISH
X-PUBLISHED-TTL:P3D
REFRESH-INTERVAL:P3D
CALSCALE:GREGORIAN
BEGIN:VEVENT
DTSTART:20101205T000000Z
DTEND:20101205T020000Z
X-MICROSOFT-CDO-ALLDAYEVENT:FALSE
SUMMARY:A Christmas Carol
DESCRIPTION:A Christmas Carol\n\n	\n\n	Lowcountry Community Players is offering a special theatrical treat this holiday season.  Many are familiar with the classic holiday story\n\n	"A Christmas Carol" by Charles Dickens.\n\n	 \n\n	Everyone knows about Ebenezer Scrooge and the ghosts who visit him on Christmas Eve that changes his life.  This one-act version was adapted by John Jakes from his full length play of the original story.\n\n	\n\n	Complete with Christmas carols\, this version will definitely entertain you.
X-ALT-DESC;FMTTYPE=text/html:<p style="text-align: center">\n	<span style="font-size: medium"><span style="font-family: bookman old style"><span style="font-size: 20px"><span style="font-family: comic sans ms">A Christmas Carol</span></span><br />\n	<br />\n	<span style="font-family: times new roman">Lowcountry Community Players is offering a special theatrical treat this holiday season.&nbsp\; Many are familiar with the classic holiday story<br />\n	&quot\;A Christmas Carol&quot\; by Charles Dickens.<br />\n	&nbsp\;<br />\n	Everyone knows about Ebenezer Scrooge and the ghosts who visit him on Christmas Eve that changes his life.&nbsp\; This one-act version was adapted by John Jakes from his full length play of the original story.<br />\n	<br />\n	Complete with Christmas carols\, this version will&nbsp\;definitely entertain you.<span _fck_bookmark="1" style="display: none">&nbsp\;</span>&nbsp\;&nbsp\;</span></span></span><br />\n	&nbsp\;</p>\n
LOCATION:Longhorn Family Steakhouse 98 Ladson Street (at I-95\, exit 53)
UID:e.528.220
SEQUENCE:3
DTSTAMP:20260424T020915Z
URL:https://business.colletonchamber.org/events/details/a-christmas-carol-12-04-2010-220
END:VEVENT

END:VCALENDAR
