BEGIN:VCALENDAR
VERSION:2.0
PRODID:-//ChamberMaster//Event Calendar 2.0//EN
METHOD:PUBLISH
X-PUBLISHED-TTL:P3D
REFRESH-INTERVAL:P3D
CALSCALE:GREGORIAN
BEGIN:VEVENT
DTSTART:20130221T220000Z
DTEND:20130222T000000Z
X-MICROSOFT-CDO-ALLDAYEVENT:FALSE
SUMMARY:Ace Basin Ribbon Cutting
DESCRIPTION:Ace Basin Ribbon Cutting Ceremony
X-ALT-DESC;FMTTYPE=text/html:Ace Basin Ribbon Cutting Ceremony
LOCATION:
UID:e.528.467
SEQUENCE:3
DTSTAMP:20260422T123515Z
URL:https://business.colletonchamber.org/events/details/ace-basin-ribbon-cutting-02-21-2013-467
END:VEVENT

END:VCALENDAR
