BEGIN:VCALENDAR
VERSION:2.0
PRODID:-//ChamberMaster//Event Calendar 2.0//EN
METHOD:PUBLISH
X-PUBLISHED-TTL:P3D
REFRESH-INTERVAL:P3D
CALSCALE:GREGORIAN
BEGIN:VEVENT
DTSTART;VALUE=DATE:20130307
DTEND;VALUE=DATE:20130308
TRANSP:TRANSPARENT
X-MICROSOFT-CDO-ALLDAYEVENT:TRUE
SUMMARY:All you can eat Spaghetti at Carmine's!
DESCRIPTION:All you can eat spaghetti at Carmine's Trattoria
X-ALT-DESC;FMTTYPE=text/html:All you can eat spaghetti at Carmine&#39\;s Trattoria
LOCATION:Downtown Walterboro (Main Street) 242 E. Washington Street\, Walterboro\, SC 29488
UID:e.528.471
SEQUENCE:3
DTSTAMP:20260422T110759Z
URL:https://business.colletonchamber.org/events/details/all-you-can-eat-spaghetti-at-carmine-s-03-07-2013-471
END:VEVENT

END:VCALENDAR
