BEGIN:VCALENDAR
VERSION:2.0
PRODID:-//ChamberMaster//Event Calendar 2.0//EN
METHOD:PUBLISH
X-PUBLISHED-TTL:P3D
REFRESH-INTERVAL:P3D
CALSCALE:GREGORIAN
BEGIN:VEVENT
DTSTART;VALUE=DATE:20121209
DTEND;VALUE=DATE:20121210
TRANSP:TRANSPARENT
X-MICROSOFT-CDO-ALLDAYEVENT:TRUE
SUMMARY:American Christmas Organ Music
DESCRIPTION:Immediately following the CCHAPS "Hanging of the Greens" at the Bedon-Lucas House\, visit St. Jude's Episcopal Church for this concert.  Free & Open to the Public.
X-ALT-DESC;FMTTYPE=text/html:Immediately following the CCHAPS &quot\;Hanging of the Greens&quot\; at the Bedon-Lucas House\, visit St. Jude&#39\;s Episcopal Church for this concert.&nbsp\; Free &amp\; Open to the Public.
LOCATION:St. Jude's Episcopal Church 907 Wichman Street Walterboro\, SC 29488
UID:e.528.405
SEQUENCE:3
DTSTAMP:20260422T152637Z
URL:https://business.colletonchamber.org/events/details/american-christmas-organ-music-12-09-2012-405
END:VEVENT

END:VCALENDAR
