BEGIN:VCALENDAR
VERSION:2.0
PRODID:-//ChamberMaster//Event Calendar 2.0//EN
METHOD:PUBLISH
X-PUBLISHED-TTL:P3D
REFRESH-INTERVAL:P3D
CALSCALE:GREGORIAN
BEGIN:VEVENT
DTSTART:20110430T230000Z
DTEND:20110501T020000Z
X-MICROSOFT-CDO-ALLDAYEVENT:FALSE
SUMMARY:An Evening at Brookland Plantation
DESCRIPTION:The Edisto Island Historic Preservation Society will hold their Bidding for History Silent Auction.
X-ALT-DESC;FMTTYPE=text/html:The Edisto Island Historic Preservation Society will hold their Bidding for History Silent Auction.
LOCATION:Brookland Plantation
UID:e.528.256
SEQUENCE:3
DTSTAMP:20260423T194145Z
URL:https://business.colletonchamber.org/events/details/an-evening-at-brookland-plantation-04-30-2011-256
END:VEVENT

END:VCALENDAR
