BEGIN:VCALENDAR
VERSION:2.0
PRODID:-//ChamberMaster//Event Calendar 2.0//EN
METHOD:PUBLISH
X-PUBLISHED-TTL:P3D
REFRESH-INTERVAL:P3D
CALSCALE:GREGORIAN
BEGIN:VEVENT
DTSTART;VALUE=DATE:20101009
DTEND;VALUE=DATE:20101010
TRANSP:TRANSPARENT
X-MICROSOFT-CDO-ALLDAYEVENT:TRUE
SUMMARY:Annual Bar-B-Que - Shepherd's Care Alzheimer's Center
DESCRIPTION:Annual Bar-B-Que fundraiser  for  Shepherd's Care Alzheimer's Day Center
X-ALT-DESC;FMTTYPE=text/html:<div style="text-align: center"><span style="font-size: small">Annual Bar-B-Que fundraiser </span></div><div style="text-align: center">&nbsp\;</div><div style="text-align: center"><span style="font-size: small">for </span></div><div style="text-align: center">&nbsp\;</div><div style="text-align: center"><span style="font-size: small">Shepherd&rsquo\;s Care Alzheimer&rsquo\;s Day Center </span></div>
LOCATION:Walterboro Elk's Lodge 1988238 Milestone Lane
UID:e.528.193
SEQUENCE:3
DTSTAMP:20260424T032551Z
URL:https://business.colletonchamber.org/events/details/annual-bar-b-que-shepherd-s-care-alzheimer-s-center-10-09-2010-193
END:VEVENT

END:VCALENDAR
