BEGIN:VCALENDAR
VERSION:2.0
PRODID:-//ChamberMaster//Event Calendar 2.0//EN
METHOD:PUBLISH
X-PUBLISHED-TTL:P3D
REFRESH-INTERVAL:P3D
CALSCALE:GREGORIAN
BEGIN:VEVENT
DTSTART;VALUE=DATE:20100514
DTEND;VALUE=DATE:20100516
TRANSP:TRANSPARENT
X-MICROSOFT-CDO-ALLDAYEVENT:TRUE
SUMMARY:Antique\, History & Arts Festival
DESCRIPTION:Antique\, History & Arts Festival\, sponsored by CCHAPS\, the Downtown Merchants Association and the SC Artisans Center.
X-ALT-DESC;FMTTYPE=text/html:<div>Antique\, History &amp\; Arts Festival\, sponsored by CCHAPS\, the Downtown Merchants Association and the SC Artisans Center.</div>
LOCATION:Historic Downtown Walterboro
UID:e.528.78
SEQUENCE:3
DTSTAMP:20260424T102849Z
URL:https://business.colletonchamber.org/events/details/antique-history-arts-festival-05-14-2010-78
END:VEVENT

END:VCALENDAR
