BEGIN:VCALENDAR
VERSION:2.0
PRODID:-//ChamberMaster//Event Calendar 2.0//EN
METHOD:PUBLISH
X-PUBLISHED-TTL:P3D
REFRESH-INTERVAL:P3D
CALSCALE:GREGORIAN
BEGIN:VEVENT
DTSTART;VALUE=DATE:20110423
DTEND;VALUE=DATE:20110424
TRANSP:TRANSPARENT
X-MICROSOFT-CDO-ALLDAYEVENT:TRUE
SUMMARY:Art Guild Spring Show and Sale
DESCRIPTION:Local artisans display and sell their arts and crafts
X-ALT-DESC;FMTTYPE=text/html:Local artisans display and sell their arts and crafts
LOCATION:Lot next to the Edistonian General Store
UID:e.528.255
SEQUENCE:3
DTSTAMP:20260423T205550Z
URL:https://business.colletonchamber.org/events/details/art-guild-spring-show-and-sale-04-23-2011-255
END:VEVENT

END:VCALENDAR
