BEGIN:VCALENDAR
VERSION:2.0
PRODID:-//ChamberMaster//Event Calendar 2.0//EN
METHOD:PUBLISH
X-PUBLISHED-TTL:P3D
REFRESH-INTERVAL:P3D
CALSCALE:GREGORIAN
BEGIN:VEVENT
DTSTART:20111202T000000Z
DTEND:20111204T020000Z
X-MICROSOFT-CDO-ALLDAYEVENT:FALSE
SUMMARY:Babes In Toyland
DESCRIPTION:Lowcountry Community Players presents Babes in Toyland.  Christopher A. Williams\, Artistic Director and Julia K. Cragg\, Associate Director
X-ALT-DESC;FMTTYPE=text/html:Lowcountry Community Players presents Babes in Toyland.&nbsp\; Christopher A. Williams\, Artistic Director and Julia K. Cragg\, Associate Director
LOCATION:The Colleton Center (Hampton Street Auditorium) 494 Hampton Street Walterboro\, SC 29488
UID:e.528.309
SEQUENCE:3
DTSTAMP:20260423T085112Z
URL:https://business.colletonchamber.org/events/details/babes-in-toyland-12-01-2011-309
END:VEVENT

END:VCALENDAR
