BEGIN:VCALENDAR
VERSION:2.0
PRODID:-//ChamberMaster//Event Calendar 2.0//EN
METHOD:PUBLISH
X-PUBLISHED-TTL:P3D
REFRESH-INTERVAL:P3D
CALSCALE:GREGORIAN
BEGIN:VEVENT
DTSTART:20120818T183000Z
DTEND:20120818T183000Z
X-MICROSOFT-CDO-ALLDAYEVENT:FALSE
SUMMARY:Back 2 School/Stop the Violence
DESCRIPTION:Hosted by SC Toyz Car Click and Cliff's Hotdog Station\n\nJump castles for the kids\n\nCar and Bike Show\n\nFree school supplies to kids\n\nJudging at 7:00 PM\n\n\n\nCome out to the Old Walterboro High School Football Stadium\n\nWe are asking all car/bike clubs to help with this event.  Sponsor a car or bike\, bring school supplies for Colleton County children.\n\n\n\nCome out and support this great event to help DA Kids and (Stop the DA Violence)\n\n\n\nYou can also drop off your donated school items at Cliff''s Hotdog Station 410 E. Washington Street
X-ALT-DESC;FMTTYPE=text/html:Hosted by SC Toyz Car Click and Cliff&#39\;s Hotdog Station<br />\nJump castles for the kids<br />\nCar and Bike Show<br />\nFree school supplies to kids<br />\nJudging at 7:00 PM<br />\n<br />\nCome out to the Old Walterboro High School Football Stadium<br />\nWe are asking all car/bike clubs to help with this event.&nbsp\; Sponsor a car or bike\, bring school supplies for Colleton County children.<br />\n<br />\nCome out and support this great event to help DA Kids and (Stop the DA Violence)<br />\n<br />\nYou can also drop off your donated school items at Cliff&#39\;&#39\;s Hotdog Station 410 E. Washington Street<br />\n<br />\n
LOCATION:Old Walterboro High School Football Stadium
UID:e.528.376
SEQUENCE:3
DTSTAMP:20260422T211742Z
URL:https://business.colletonchamber.org/events/details/back-2-school-stop-the-violence-08-18-2012-376
END:VEVENT

END:VCALENDAR
